BEGIN:VCALENDAR
VERSION:2.0
PRODID:-//www.thearcfamilyinstitute.org//NONSGML kigkonsult.se iCalcreator 
 2.30.10//
CALSCALE:GREGORIAN
METHOD:PUBLISH
UID:bae82682-c63a-446e-810e-68a85d85c301
X-WR-CALDESC:Summer is here! This is the perfect time to practice skills th
 at you will need for school\, work\, and living more independently. You wi
 ll be provided an overview of 10 fun challenges that you can complete duri
 ng the summer and move you further along the road to adulthood. This webin
 ar is geared for students\, their parents\, and professionals in the field
 .
X-WR-RELCALID:c9597a21ddf0bb998c5c460df7cea700
X-WR-TIMEZONE:America/New_York
BEGIN:VTIMEZONE
TZID:America/New_York
BEGIN:STANDARD
TZNAME:EST
DTSTART:20151101T020000
TZOFFSETFROM:-0400
TZOFFSETTO:-0500
RDATE:20161106T020000
RDATE:20171105T020000
END:STANDARD
BEGIN:DAYLIGHT
TZNAME:EDT
DTSTART:20160313T020000
TZOFFSETFROM:-0500
TZOFFSETTO:-0400
RDATE:20170312T020000
END:DAYLIGHT
END:VTIMEZONE
BEGIN:VEVENT
UID:147b503f-418d-4dbd-90b2-f6cb519cb3be
DTSTAMP:20260424T235817Z
DESCRIPTION:Summer is here! This is the perfect time to practice skills tha
 t you will need for school\, work\, and living more independently. You wil
 l be provided an overview of 10 fun challenges that you can complete durin
 g the summer and move you further along the road to adulthood. This webina
 r is geared for students\, their parents\, and professionals in the field.
DTSTART;TZID=America/New_York:20160622T180000
DTEND;TZID=America/New_York:20160622T190000
LOCATION:
SUMMARY:Webinar: 10 Things Every Student Should Explore During Summer Break
END:VEVENT
END:VCALENDAR
