BEGIN:VCALENDAR
VERSION:2.0
PRODID:-//www.thearcfamilyinstitute.org//NONSGML kigkonsult.se iCalcreator 
 2.30.10//
CALSCALE:GREGORIAN
METHOD:PUBLISH
UID:63e8ee25-b3ec-462d-a5f4-4c3863f20271
X-WR-CALDESC:Creating a future plan - a guide for a person to lead a good l
 ife as independently as possible – is important for all people with intell
 ectual and developmental disabilities (I/DD). Please join us for a panel d
 iscussion on strategies that people with dual diagnoses of I/DD and mental
  health needs and their family members can use to create future plans that
  build on the individual’s strengths\, likes\, and dislikes. \n\nWe will i
 dentify challenges in planning for people with dual diagnoses and explore 
 how to identify and implement strategies to provide the greatest opportuni
 ty for independence and growth for each individual\, as well as ways to su
 pport people through the grief and loss that comes with transitions.
X-WR-RELCALID:7d759697d99d15df96f92ccc4e293346
X-WR-TIMEZONE:America/New_York
BEGIN:VTIMEZONE
TZID:America/New_York
BEGIN:STANDARD
TZNAME:EST
DTSTART:20151101T020000
TZOFFSETFROM:-0400
TZOFFSETTO:-0500
RDATE:20161106T020000
RDATE:20171105T020000
END:STANDARD
BEGIN:DAYLIGHT
TZNAME:EDT
DTSTART:20160313T020000
TZOFFSETFROM:-0500
TZOFFSETTO:-0400
RDATE:20170312T020000
END:DAYLIGHT
END:VTIMEZONE
BEGIN:VEVENT
UID:76ea5eff-5a87-4280-a518-8cc25302470d
DTSTAMP:20260425T002416Z
DESCRIPTION:Creating a future plan - a guide for a person to lead a good li
 fe as independently as possible – is important for all people with intelle
 ctual and developmental disabilities (I/DD). Please join us for a panel di
 scussion on strategies that people with dual diagnoses of I/DD and mental 
 health needs and their family members can use to create future plans that 
 build on the individual’s strengths\, likes\, and dislikes. \n\nWe will id
 entify challenges in planning for people with dual diagnoses and explore h
 ow to identify and implement strategies to provide the greatest opportunit
 y for independence and growth for each individual\, as well as ways to sup
 port people through the grief and loss that comes with transitions.
DTSTART;TZID=America/New_York:20160621T140000
DTEND;TZID=America/New_York:20160621T150000
LOCATION:
SUMMARY:Webinar: Future Planning for People with Dual Diagnoses of I/DD and
  Mental Health Needs: Strategies and Challenges
END:VEVENT
END:VCALENDAR
