BEGIN:VCALENDAR
VERSION:2.0
PRODID:-//www.thearcfamilyinstitute.org//NONSGML kigkonsult.se iCalcreator 
 2.30.10//
CALSCALE:GREGORIAN
METHOD:PUBLISH
UID:ce94263e-5556-45a3-867c-3d10c2d69d27
X-WR-CALDESC:We’re inviting all high school graduates and soon-to-be gradua
 tes and their families to discover your future opportunities with The Arc 
 of Union County. Tours and presentations followed by lunch.
X-WR-RELCALID:555e611a97866a13248edbe1e9c9c388
X-WR-TIMEZONE:America/New_York
BEGIN:VTIMEZONE
TZID:America/New_York
BEGIN:STANDARD
TZNAME:EST
DTSTART:20151101T020000
TZOFFSETFROM:-0400
TZOFFSETTO:-0500
RDATE:20161106T020000
RDATE:20171105T020000
END:STANDARD
BEGIN:DAYLIGHT
TZNAME:EDT
DTSTART:20160313T020000
TZOFFSETFROM:-0500
TZOFFSETTO:-0400
RDATE:20170312T020000
END:DAYLIGHT
END:VTIMEZONE
BEGIN:VEVENT
UID:d75e20d6-cd23-4cf7-9386-f2c3aa8314c5
DTSTAMP:20260425T001413Z
DESCRIPTION:We’re inviting all high school graduates and soon-to-be graduat
 es and their families to discover your future opportunities with The Arc o
 f Union County. Tours and presentations followed by lunch.
DTSTART;TZID=America/New_York:20160618T100000
DTEND;TZID=America/New_York:20160618T123000
LOCATION:The Arc of Union County\, 70 Diamond Road\, Springfield\, NJ 07081
SUMMARY:The Arc of Union County: Open House
END:VEVENT
END:VCALENDAR
