BEGIN:VCALENDAR
VERSION:2.0
PRODID:-//www.thearcfamilyinstitute.org//NONSGML kigkonsult.se iCalcreator 
 2.30.10//
CALSCALE:GREGORIAN
METHOD:PUBLISH
UID:f4bd02e0-98c7-47d2-a5d8-79a8a23d9bba
X-WR-CALDESC:This webinar will look at the problems individuals with intell
 ectual and developmental disabilities who have criminal histories face whe
 n they seek employment. The speakers will address the obstacles faced as w
 ell as recommendations for successfully finding and keeping employment.
X-WR-RELCALID:260e9c7b0e9a025421100ee96f034433
X-WR-TIMEZONE:America/New_York
BEGIN:VTIMEZONE
TZID:America/New_York
BEGIN:STANDARD
TZNAME:EST
DTSTART:20151101T020000
TZOFFSETFROM:-0400
TZOFFSETTO:-0500
RDATE:20161106T020000
RDATE:20171105T020000
END:STANDARD
BEGIN:DAYLIGHT
TZNAME:EDT
DTSTART:20160313T020000
TZOFFSETFROM:-0500
TZOFFSETTO:-0400
RDATE:20170312T020000
END:DAYLIGHT
END:VTIMEZONE
BEGIN:VEVENT
UID:6af2c5f3-e429-43c8-bc08-ee923b487b1c
DTSTAMP:20260425T000932Z
DESCRIPTION:This webinar will look at the problems individuals with intelle
 ctual and developmental disabilities who have criminal histories face when
  they seek employment. The speakers will address the obstacles faced as we
 ll as recommendations for successfully finding and keeping employment.
DTSTART;TZID=America/New_York:20160616T130000
DTEND;TZID=America/New_York:20160616T140000
LOCATION:
SUMMARY:Webinar: Obstacles to Employment for People with I/DD who Have Crim
 inal Histories
END:VEVENT
END:VCALENDAR
