BEGIN:VCALENDAR
VERSION:2.0
PRODID:-//www.thearcfamilyinstitute.org//NONSGML kigkonsult.se iCalcreator 
 2.30.10//
CALSCALE:GREGORIAN
METHOD:PUBLISH
UID:3dcaf038-7350-4633-9e98-7dba1eba56f1
X-WR-CALDESC:Presented by Denise Rekem\, Esq.\n\nJoin special education att
 orney Denise Rekem for an overview of special education rights under the I
 ndividuals with Disabilities Education Act (“IDEA”) and Section 504 of the
  Rehabilitation Act and the difference between these two laws. Learn the p
 rocess by which children are referred\, evaluated\, classified and provide
 d services under IDEA as well as useful information to ensure their childr
 en’s rights are protected.
X-WR-RELCALID:13650d1a17b7bf54ffca6c0fc39d756f
X-WR-TIMEZONE:America/New_York
BEGIN:VTIMEZONE
TZID:America/New_York
BEGIN:STANDARD
TZNAME:EST
DTSTART:20151101T020000
TZOFFSETFROM:-0400
TZOFFSETTO:-0500
RDATE:20161106T020000
RDATE:20171105T020000
END:STANDARD
BEGIN:DAYLIGHT
TZNAME:EDT
DTSTART:20160313T020000
TZOFFSETFROM:-0500
TZOFFSETTO:-0400
RDATE:20170312T020000
END:DAYLIGHT
END:VTIMEZONE
BEGIN:VEVENT
UID:f7822ca8-4130-4d5f-82a0-34ce5c71361e
DTSTAMP:20260425T001622Z
DESCRIPTION:Presented by Denise Rekem\, Esq.\n\nJoin special education atto
 rney Denise Rekem for an overview of special education rights under the In
 dividuals with Disabilities Education Act (“IDEA”) and Section 504 of the 
 Rehabilitation Act and the difference between these two laws. Learn the pr
 ocess by which children are referred\, evaluated\, classified and provided
  services under IDEA as well as useful information to ensure their childre
 n’s rights are protected.
DTSTART;TZID=America/New_York:20160608T190000
DTEND;TZID=America/New_York:20160608T200000
LOCATION:THE ARC KOHLER SCHOOL\, 1137 GLOBE AVE.\, MOUNTAINSIDE\, NJ
SUMMARY:The Arc Kohler Family Series - Your Child’s Right to Special Educat
 ion
END:VEVENT
END:VCALENDAR
