BEGIN:VCALENDAR
VERSION:2.0
PRODID:-//www.thearcfamilyinstitute.org//NONSGML kigkonsult.se iCalcreator 
 2.30.10//
CALSCALE:GREGORIAN
METHOD:PUBLISH
UID:2bca867a-192a-4078-87c5-0756e8b0fbc3
X-WR-CALDESC:Hosted by The Arc of New Jersey Family Institute and presented
  by Dr. Graham Harke Psy.D.: of the New Jersey Center for Tourette Syndrom
 e & Associated Disorders. \n\nIn this webinar\, Dr. Hartke Psy.D.: will pr
 ovide an overview of Tourette Syndrome as well as strategies\, resources a
 nd tips to help families that have a loved one with Tourette Syndrome. \n
 \nPresenter: Dr. Graham Hartke Psy.D.:\, a graduate of Rutgers University\
 , received his graduate degree from the Rutgers Graduate School of Applied
  and Professional Psychology with a doctorate in school psychology and a c
 oncentration in Sport Psychology. While at Rutgers he was selected to work
  with TS children and families as a clinician in the Rutgers Tourette Synd
 rome Clinic. He is also a New Jersey Certified School Psychologist serving
  in that capacity at Shepard Schools in Morristown NJ. He specializes in a
 nxiety disorders/OCD\, Tourette Syndrome\, behavioral management\, ADHD/OD
 D\, HFA/Asperger's Syndrome\, and mental coaching for Sport/Performing Art
 s working with children\, adolescents\, and adults.
X-WR-RELCALID:8acb2e8245561549f30501a78bf233f7
X-WR-TIMEZONE:America/New_York
BEGIN:VTIMEZONE
TZID:America/New_York
BEGIN:STANDARD
TZNAME:EST
DTSTART:20151101T020000
TZOFFSETFROM:-0400
TZOFFSETTO:-0500
RDATE:20161106T020000
RDATE:20171105T020000
END:STANDARD
BEGIN:DAYLIGHT
TZNAME:EDT
DTSTART:20160313T020000
TZOFFSETFROM:-0500
TZOFFSETTO:-0400
RDATE:20170312T020000
END:DAYLIGHT
END:VTIMEZONE
BEGIN:VEVENT
UID:4acd3983-a1f7-4b8c-9590-58fde9075fbe
DTSTAMP:20260425T002416Z
DESCRIPTION:Hosted by The Arc of New Jersey Family Institute and presented 
 by Dr. Graham Harke Psy.D.: of the New Jersey Center for Tourette Syndrome
  & Associated Disorders. \n\nIn this webinar\, Dr. Hartke Psy.D.: will pro
 vide an overview of Tourette Syndrome as well as strategies\, resources an
 d tips to help families that have a loved one with Tourette Syndrome. \n\n
 Presenter: Dr. Graham Hartke Psy.D.:\, a graduate of Rutgers University\, 
 received his graduate degree from the Rutgers Graduate School of Applied a
 nd Professional Psychology with a doctorate in school psychology and a con
 centration in Sport Psychology. While at Rutgers he was selected to work w
 ith TS children and families as a clinician in the Rutgers Tourette Syndro
 me Clinic. He is also a New Jersey Certified School Psychologist serving i
 n that capacity at Shepard Schools in Morristown NJ. He specializes in anx
 iety disorders/OCD\, Tourette Syndrome\, behavioral management\, ADHD/ODD\
 , HFA/Asperger's Syndrome\, and mental coaching for Sport/Performing Arts 
 working with children\, adolescents\, and adults.
DTSTART;TZID=America/New_York:20160607T180000
DTEND;TZID=America/New_York:20160607T190000
LOCATION:
SUMMARY:Webinar: An Overview of Tourette Syndrome: Strategies\, Resources a
 nd Tips to Help Families
END:VEVENT
END:VCALENDAR
