BEGIN:VCALENDAR
VERSION:2.0
PRODID:-//www.thearcfamilyinstitute.org//NONSGML kigkonsult.se iCalcreator 
 2.30.10//
CALSCALE:GREGORIAN
METHOD:PUBLISH
UID:ad10423b-caf1-4a31-a965-3e871a7d8a20
X-WR-CALDESC:Camp Jaycee is a residential summer camp for children ages (7-
 20) and adults (21-70) with developmental and intellectual disabilities. T
 he campsite is on 185 acres of forests\, fields and streams in the lovely 
 Pocono Mountains\, a short distance from the New Jersey border. The center
 piece of camp is a beautiful two-acre spring fed pond. Nearby\, the air co
 nditioned dining hall is the hub of camp life. A modern\, fully staffed in
 firmary is near the athletic field and basketball courts. The male and fem
 ale living areas contain air-conditioned sleeping cabins\, each with their
  own modern bathroom.\n\nProgram sites include a large recreation building
  with a stage\, an arts and crafts building\, a music hall\, a nature hut 
 and full athletic facilities. Camp Jaycee features an active\, diverse pro
 gram that includes swimming\, boating\, dance and movement\, sports and ga
 mes\, arts and crafts\, music and singing\, and nature education.
X-WR-RELCALID:8387ca9a2d9f3b5b0a62d33f39cd7eee
X-WR-TIMEZONE:America/New_York
BEGIN:VTIMEZONE
TZID:America/New_York
BEGIN:STANDARD
TZNAME:EST
DTSTART:20151101T020000
TZOFFSETFROM:-0400
TZOFFSETTO:-0500
RDATE:20161106T020000
RDATE:20171105T020000
END:STANDARD
BEGIN:DAYLIGHT
TZNAME:EDT
DTSTART:20160313T020000
TZOFFSETFROM:-0500
TZOFFSETTO:-0400
RDATE:20170312T020000
END:DAYLIGHT
END:VTIMEZONE
BEGIN:VEVENT
UID:569dfd6a-0732-4068-8138-cebd9f26ec5b
DTSTAMP:20260424T235810Z
DESCRIPTION:Camp Jaycee is a residential summer camp for children ages (7-2
 0) and adults (21-70) with developmental and intellectual disabilities. Th
 e campsite is on 185 acres of forests\, fields and streams in the lovely P
 ocono Mountains\, a short distance from the New Jersey border. The centerp
 iece of camp is a beautiful two-acre spring fed pond. Nearby\, the air con
 ditioned dining hall is the hub of camp life. A modern\, fully staffed inf
 irmary is near the athletic field and basketball courts. The male and fema
 le living areas contain air-conditioned sleeping cabins\, each with their 
 own modern bathroom.\n\nProgram sites include a large recreation building 
 with a stage\, an arts and crafts building\, a music hall\, a nature hut a
 nd full athletic facilities. Camp Jaycee features an active\, diverse prog
 ram that includes swimming\, boating\, dance and movement\, sports and gam
 es\, arts and crafts\, music and singing\, and nature education.
DTSTART;TZID=America/New_York:20160605T120000
DTEND;TZID=America/New_York:20160605T150000
LOCATION:223 Ziegler Rd\, Effort\, PA 18330
SUMMARY:Camp Jaycee Open House
END:VEVENT
END:VCALENDAR
