BEGIN:VCALENDAR
VERSION:2.0
PRODID:-//www.thearcfamilyinstitute.org//NONSGML kigkonsult.se iCalcreator 
 2.30.10//
CALSCALE:GREGORIAN
METHOD:PUBLISH
UID:ccbc72b9-14ce-4341-9c88-3610628b8a06
X-WR-CALDESC:The Arc of New Jersey is thrilled to announce that we are host
 ing our first Sprout Film Festival on Saturday\, June 4th in Piscataway\, 
 New Jersey. The Sprout Film Festival offers people with intellectual and d
 evelopmental disabilities the opportunity to be on screen and behind the s
 cenes in a wide range of video projects. Each film has a varied run-time a
 nd the genres can alternate from comedy and drama to documentary-style. Th
 e goal of the Festival is to break down stereotypes and offer accurate por
 trayals of people with disabilities. The event will take place on the Busc
 h Campus at Rutgers University and the auditorium is accessible for people
  with disabilities
X-WR-RELCALID:8385e7a221243c2a70766a6eb808217d
X-WR-TIMEZONE:America/New_York
BEGIN:VTIMEZONE
TZID:America/New_York
BEGIN:STANDARD
TZNAME:EST
DTSTART:20151101T020000
TZOFFSETFROM:-0400
TZOFFSETTO:-0500
RDATE:20161106T020000
RDATE:20171105T020000
END:STANDARD
BEGIN:DAYLIGHT
TZNAME:EDT
DTSTART:20160313T020000
TZOFFSETFROM:-0500
TZOFFSETTO:-0400
RDATE:20170312T020000
END:DAYLIGHT
END:VTIMEZONE
BEGIN:VEVENT
UID:cac90bac-4bd1-4ddd-9a17-9d962d0efc3b
DTSTAMP:20260425T001739Z
DESCRIPTION:The Arc of New Jersey is thrilled to announce that we are hosti
 ng our first Sprout Film Festival on Saturday\, June 4th in Piscataway\, N
 ew Jersey. The Sprout Film Festival offers people with intellectual and de
 velopmental disabilities the opportunity to be on screen and behind the sc
 enes in a wide range of video projects. Each film has a varied run-time an
 d the genres can alternate from comedy and drama to documentary-style. The
  goal of the Festival is to break down stereotypes and offer accurate port
 rayals of people with disabilities. The event will take place on the Busch
  Campus at Rutgers University and the auditorium is accessible for people 
 with disabilities
DTSTART;TZID=America/New_York:20160604T000000
DTEND;TZID=America/New_York:20160604T235900
LOCATION:Busch Campus Center\, Rutgers University\, Piscataway
SUMMARY:Sprout Film Festival: A film festival featuring short films about a
 nd by people with intellectual and developmental disabilities
END:VEVENT
END:VCALENDAR
