BEGIN:VCALENDAR
VERSION:2.0
PRODID:-//www.thearcfamilyinstitute.org//NONSGML kigkonsult.se iCalcreator 
 2.30.10//
CALSCALE:GREGORIAN
METHOD:PUBLISH
UID:ce775d0e-1d86-4fc1-8cf7-e42e5a24304d
X-WR-CALDESC:This conference is for everyone who is concerned about providi
 ng quality health care to individuals with intellectual and developmental 
 disabilities including: health and mental health professionals\; administr
 ative and direct care staff at agencies providing services to persons with
  intellectual and developmental disabilities\; family members\; social wor
 kers\; HMO representatives\; and employees of the New Jersey Departments o
 f Human Services\, Children and Families\, and Health.
X-WR-RELCALID:53c9e558c0fc41fbb8b6e4e466eb390f
X-WR-TIMEZONE:America/New_York
BEGIN:VTIMEZONE
TZID:America/New_York
BEGIN:STANDARD
TZNAME:EST
DTSTART:20151101T020000
TZOFFSETFROM:-0400
TZOFFSETTO:-0500
RDATE:20161106T020000
RDATE:20171105T020000
END:STANDARD
BEGIN:DAYLIGHT
TZNAME:EDT
DTSTART:20160313T020000
TZOFFSETFROM:-0500
TZOFFSETTO:-0400
RDATE:20170312T020000
END:DAYLIGHT
END:VTIMEZONE
BEGIN:VEVENT
UID:c86daf09-90f4-4282-84e3-aa7ec6e02ff2
DTSTAMP:20260425T001430Z
DESCRIPTION:This conference is for everyone who is concerned about providin
 g quality health care to individuals with intellectual and developmental d
 isabilities including: health and mental health professionals\; administra
 tive and direct care staff at agencies providing services to persons with 
 intellectual and developmental disabilities\; family members\; social work
 ers\; HMO representatives\; and employees of the New Jersey Departments of
  Human Services\, Children and Families\, and Health.
DTSTART;TZID=America/New_York:20160603T090000
DTEND;TZID=America/New_York:20160603T160000
LOCATION:The Westin Hotel in Princeton\, NJ
SUMMARY:27th Annual Conference on Medical Care for People with Intellectual
  and Developmental Disabilities
END:VEVENT
END:VCALENDAR
