BEGIN:VCALENDAR
VERSION:2.0
PRODID:-//www.thearcfamilyinstitute.org//NONSGML kigkonsult.se iCalcreator 
 2.30.10//
CALSCALE:GREGORIAN
METHOD:PUBLISH
UID:1db03f85-a8ce-4664-8b11-4dbcca1fb47c
X-WR-CALDESC:What do you do when you are concerned about the ongoing develo
 pment of an infant or toddler?  We want you to know about the statewide sy
 stem of supports and services for infants & toddlers with developmental de
 lays called the New Jersey Early Intervention System.  An Early Interventi
 on evaluation may be the first step to find out about a child’s developmen
 tal strengths and needs – whether the child is losing previously acquired 
 skills or just does not seem to be progressing in his/her development. The
  goal of Early Intervention is to partner with families and “coach” them o
 n ways to support their child’s development during their everyday activiti
 es.\n\nPresenter: Shakira Linzey – Wife and mother of three children\, one
  who received Early Intervention services\; Regional Family Support Manage
 r at Mid- Jersey CARES REIC\; earned a MS in Public Health from Temple Uni
 versity and a BS in Health Science from William Paterson University\; has 
 worked in the healthcare field in New Jersey\, New York\, Pennsylvania\, a
 nd Connecticut\; and is a currently a resident of Somerset County.
X-WR-RELCALID:ee3565b4df4603b06ca96a510ca0b61b
X-WR-TIMEZONE:America/New_York
BEGIN:VTIMEZONE
TZID:America/New_York
BEGIN:STANDARD
TZNAME:EST
DTSTART:20151101T020000
TZOFFSETFROM:-0400
TZOFFSETTO:-0500
RDATE:20161106T020000
RDATE:20171105T020000
END:STANDARD
BEGIN:DAYLIGHT
TZNAME:EDT
DTSTART:20160313T020000
TZOFFSETFROM:-0500
TZOFFSETTO:-0400
RDATE:20170312T020000
END:DAYLIGHT
END:VTIMEZONE
BEGIN:VEVENT
UID:fc3fa14a-2fd3-4f11-a803-4dc24240eda7
DTSTAMP:20260425T012553Z
DESCRIPTION:What do you do when you are concerned about the ongoing develop
 ment of an infant or toddler?  We want you to know about the statewide sys
 tem of supports and services for infants & toddlers with developmental del
 ays called the New Jersey Early Intervention System.  An Early Interventio
 n evaluation may be the first step to find out about a child’s development
 al strengths and needs – whether the child is losing previously acquired s
 kills or just does not seem to be progressing in his/her development. The 
 goal of Early Intervention is to partner with families and “coach” them on
  ways to support their child’s development during their everyday activitie
 s.\n\nPresenter: Shakira Linzey – Wife and mother of three children\, one 
 who received Early Intervention services\; Regional Family Support Manager
  at Mid- Jersey CARES REIC\; earned a MS in Public Health from Temple Univ
 ersity and a BS in Health Science from William Paterson University\; has w
 orked in the healthcare field in New Jersey\, New York\, Pennsylvania\, an
 d Connecticut\; and is a currently a resident of Somerset County.
DTSTART;TZID=America/New_York:20160525T180000
DTEND;TZID=America/New_York:20160525T190000
LOCATION:
SUMMARY:Webinar: An Overview of the New Jersey Early Intervention System
END:VEVENT
END:VCALENDAR
