BEGIN:VCALENDAR
VERSION:2.0
PRODID:-//www.thearcfamilyinstitute.org//NONSGML kigkonsult.se iCalcreator 
 2.30.10//
CALSCALE:GREGORIAN
METHOD:PUBLISH
UID:d738302a-fcf0-4863-baf6-194787c921f2
X-WR-CALDESC:Join The Arc of New Jersey Family Institute as we host 3 regio
 nal PCAST Workshops with Michael Steinbruck. \n\nEnsuring a student’s IEP 
 is person centered is a critical component in planning for a student’s tra
 nsition from school to adult life. During this hands-on workshop\, partici
 pants will learn fundamental skills\, tools and processes to implement per
 son centered approaches in schools. These include methods for gathering\, 
 organizing and presenting person-centered information\, and implementing s
 trategies designed to improve post school outcomes for students. \n\nPrese
 nter: Michael Steinbruck\, MA is the PCAST Program Coordinator at The Bogg
 s Center on Developmental Disabilities. \n\nThis workshop is funded by the
  New Jersey Department of Education\, Office of Special Education Programs
 .
X-WR-RELCALID:528a1c32a478f5334dc583fc4d5a4179
X-WR-TIMEZONE:America/New_York
BEGIN:VTIMEZONE
TZID:America/New_York
BEGIN:STANDARD
TZNAME:EST
DTSTART:20151101T020000
TZOFFSETFROM:-0400
TZOFFSETTO:-0500
RDATE:20161106T020000
RDATE:20171105T020000
END:STANDARD
BEGIN:DAYLIGHT
TZNAME:EDT
DTSTART:20160313T020000
TZOFFSETFROM:-0500
TZOFFSETTO:-0400
RDATE:20170312T020000
END:DAYLIGHT
END:VTIMEZONE
BEGIN:VEVENT
UID:70cc25f5-a260-4bfa-b22f-968a2cce465a
DTSTAMP:20260425T013603Z
DESCRIPTION:Join The Arc of New Jersey Family Institute as we host 3 region
 al PCAST Workshops with Michael Steinbruck. \n\nEnsuring a student’s IEP i
 s person centered is a critical component in planning for a student’s tran
 sition from school to adult life. During this hands-on workshop\, particip
 ants will learn fundamental skills\, tools and processes to implement pers
 on centered approaches in schools. These include methods for gathering\, o
 rganizing and presenting person-centered information\, and implementing st
 rategies designed to improve post school outcomes for students. \n\nPresen
 ter: Michael Steinbruck\, MA is the PCAST Program Coordinator at The Boggs
  Center on Developmental Disabilities. \n\nThis workshop is funded by the 
 New Jersey Department of Education\, Office of Special Education Programs.
DTSTART;TZID=America/New_York:20160524T183000
DTEND;TZID=America/New_York:20160524T203000
LOCATION:The Arc of Essex\, 123 Naylon Avenue Livingston\, 07039
SUMMARY:PCAST - Person-Centered Approaches in Schools and Transition: For F
 amilies\, Students and Educators (Essex)
END:VEVENT
END:VCALENDAR
