BEGIN:VCALENDAR
VERSION:2.0
PRODID:-//www.thearcfamilyinstitute.org//NONSGML kigkonsult.se iCalcreator 
 2.30.10//
CALSCALE:GREGORIAN
METHOD:PUBLISH
UID:f402e306-1565-4a08-a847-7c1b123f1b39
X-WR-CALDESC:The Kohler Family Series “Navigating The System” Presented by 
 The Arc of NJ\n\nJoin us as The Arc of New Jersey presents and discusses v
 arious programs and supports available to children/families of children wi
 th disabilities ages 3 and up.\n\n*Program is Open to the Public*\n\nLearn
  the difference between DCF and DDD\nHow to navigate some challenges in ac
 cessing services\nLearn some of the “service provider language” to navigat
 e more effectively
X-WR-RELCALID:d4e2ebaff974cc58f7bf6b283abf4ce4
X-WR-TIMEZONE:America/New_York
BEGIN:VTIMEZONE
TZID:America/New_York
BEGIN:STANDARD
TZNAME:EST
DTSTART:20151101T020000
TZOFFSETFROM:-0400
TZOFFSETTO:-0500
RDATE:20161106T020000
RDATE:20171105T020000
END:STANDARD
BEGIN:DAYLIGHT
TZNAME:EDT
DTSTART:20160313T020000
TZOFFSETFROM:-0500
TZOFFSETTO:-0400
RDATE:20170312T020000
END:DAYLIGHT
END:VTIMEZONE
BEGIN:VEVENT
UID:079e4470-85e0-46a4-9d7a-b0774322ae4e
DTSTAMP:20260425T013735Z
DESCRIPTION:The Kohler Family Series “Navigating The System” Presented by T
 he Arc of NJ\n\nJoin us as The Arc of New Jersey presents and discusses va
 rious programs and supports available to children/families of children wit
 h disabilities ages 3 and up.\n\n*Program is Open to the Public*\n\nLearn 
 the difference between DCF and DDD\nHow to navigate some challenges in acc
 essing services\nLearn some of the “service provider language” to navigate
  more effectively
DTSTART;TZID=America/New_York:20160517T184500
DTEND;TZID=America/New_York:20160517T194500
LOCATION:THE ARC KOHLER SCHOOL\, 1137 GLOBE AVE.\, MOUNTAINSIDE
SUMMARY:“Navigating The System”  Presented by The Arc of New Jersey
END:VEVENT
END:VCALENDAR
