BEGIN:VCALENDAR
VERSION:2.0
PRODID:-//www.thearcfamilyinstitute.org//NONSGML kigkonsult.se iCalcreator 
 2.30.10//
CALSCALE:GREGORIAN
METHOD:PUBLISH
UID:88b5a22c-9a97-4928-ad20-c5e8355c3e54
X-WR-CALDESC:Adults with intellectual and developmental disabilities can li
 ve in a variety of places in the community. It is important to determine t
 he level of support needed by the person when exploring housing options. O
 ne size does not fit all\, so its never too early to get started on unders
 tanding the different housing options in your community. This webinar will
  give an overview of housing options available and what to keep in mind wh
 en identifying the best fit for the person with I/DD. It is geared for stu
 dents 14-21\, their families\, and professionals in the field.
X-WR-RELCALID:8deeb94284984a8e70d0c1b34b51efe6
X-WR-TIMEZONE:America/New_York
BEGIN:VTIMEZONE
TZID:America/New_York
BEGIN:STANDARD
TZNAME:EST
DTSTART:20151101T020000
TZOFFSETFROM:-0400
TZOFFSETTO:-0500
RDATE:20161106T020000
RDATE:20171105T020000
END:STANDARD
BEGIN:DAYLIGHT
TZNAME:EDT
DTSTART:20160313T020000
TZOFFSETFROM:-0500
TZOFFSETTO:-0400
RDATE:20170312T020000
END:DAYLIGHT
END:VTIMEZONE
BEGIN:VEVENT
UID:f621d2e3-3ecb-467b-b993-5a7fa8df85d7
DTSTAMP:20260425T010947Z
DESCRIPTION:Adults with intellectual and developmental disabilities can liv
 e in a variety of places in the community. It is important to determine th
 e level of support needed by the person when exploring housing options. On
 e size does not fit all\, so its never too early to get started on underst
 anding the different housing options in your community. This webinar will 
 give an overview of housing options available and what to keep in mind whe
 n identifying the best fit for the person with I/DD. It is geared for stud
 ents 14-21\, their families\, and professionals in the field.
DTSTART;TZID=America/New_York:20160511T180000
DTEND;TZID=America/New_York:20160511T190000
LOCATION:
SUMMARY:Webinar: Exploring Housing for Persons with Developmental Disabilit
 ies
END:VEVENT
END:VCALENDAR
