BEGIN:VCALENDAR
VERSION:2.0
PRODID:-//www.thearcfamilyinstitute.org//NONSGML kigkonsult.se iCalcreator 
 2.30.10//
CALSCALE:GREGORIAN
METHOD:PUBLISH
UID:c5a97cb8-7d2c-4d2a-b76d-9e3facae701a
X-WR-CALDESC:The Family Support Organization and Montgomery Academy will be
  hosting a Parent Networking Night/Provider Resource Fair on May 10th\, 20
 16 at Montgomery Academy\, 188 Mount Airy Road\, Basking Ridge\, NJ from 6
 pm-8pm. Resources are geared toward families with DD/ID youth and young ad
 ults.
X-WR-RELCALID:81415571a2dc0b3eb1fac8b2be83aa3c
X-WR-TIMEZONE:America/New_York
BEGIN:VTIMEZONE
TZID:America/New_York
BEGIN:STANDARD
TZNAME:EST
DTSTART:20151101T020000
TZOFFSETFROM:-0400
TZOFFSETTO:-0500
RDATE:20161106T020000
RDATE:20171105T020000
END:STANDARD
BEGIN:DAYLIGHT
TZNAME:EDT
DTSTART:20160313T020000
TZOFFSETFROM:-0500
TZOFFSETTO:-0400
RDATE:20170312T020000
END:DAYLIGHT
END:VTIMEZONE
BEGIN:VEVENT
UID:4a0156d4-455d-400c-aebe-b0e637a6713d
DTSTAMP:20260425T012055Z
DESCRIPTION:The Family Support Organization and Montgomery Academy will be 
 hosting a Parent Networking Night/Provider Resource Fair on May 10th\, 201
 6 at Montgomery Academy\, 188 Mount Airy Road\, Basking Ridge\, NJ from 6p
 m-8pm. Resources are geared toward families with DD/ID youth and young adu
 lts.
DTSTART;TZID=America/New_York:20160510T180000
DTEND;TZID=America/New_York:20160510T200000
LOCATION:Montgomery Academy\, 188 Mount Airy Road\, Basking Ridge\, NJ
SUMMARY:Parent Networking Night/Provider Resource Fair (Somerset County)
END:VEVENT
END:VCALENDAR
