BEGIN:VCALENDAR
VERSION:2.0
PRODID:-//www.thearcfamilyinstitute.org//NONSGML kigkonsult.se iCalcreator 
 2.30.10//
CALSCALE:GREGORIAN
METHOD:PUBLISH
UID:82853bf3-8491-4d02-ab14-97635241cd70
X-WR-CALDESC:Let The Arc Mercer make the Support Coordinator selection easy
  for you!  \n\nIn the Fee-for-Service system\, all individuals who are eli
 gible for New Jersey State funded services must select a Support Coordinat
 ion Agency. Your Support Coordinator will work to develop an Individualize
 d Service Plan (ISP).\n\nThe Arc Mercer will support your loved one (indiv
 idual) \nwith the following:\nJob Training & Employment\nHomes that Promot
 e Independence\nTransportation\nHealthcare Center\nDay Programs that Inclu
 de Pre-Vocational Support\nBehavioral Programs\nRespite Support\nRecreatio
 nal Activities in the Community
X-WR-RELCALID:ed74526c4eee83b66ba44ba62111892a
X-WR-TIMEZONE:America/New_York
BEGIN:VTIMEZONE
TZID:America/New_York
BEGIN:STANDARD
TZNAME:EST
DTSTART:20151101T020000
TZOFFSETFROM:-0400
TZOFFSETTO:-0500
RDATE:20161106T020000
END:STANDARD
BEGIN:DAYLIGHT
TZNAME:EDT
DTSTART:20160313T020000
TZOFFSETFROM:-0500
TZOFFSETTO:-0400
RDATE:20170312T020000
END:DAYLIGHT
END:VTIMEZONE
BEGIN:VEVENT
UID:9f0d3fb6-bb96-42df-9cd5-ec2b85f449b7
DTSTAMP:20260425T024118Z
DESCRIPTION:Let The Arc Mercer make the Support Coordinator selection easy 
 for you!  \n\nIn the Fee-for-Service system\, all individuals who are elig
 ible for New Jersey State funded services must select a Support Coordinati
 on Agency. Your Support Coordinator will work to develop an Individualized
  Service Plan (ISP).\n\nThe Arc Mercer will support your loved one (indivi
 dual) \nwith the following:\nJob Training & Employment\nHomes that Promote
  Independence\nTransportation\nHealthcare Center\nDay Programs that Includ
 e Pre-Vocational Support\nBehavioral Programs\nRespite Support\nRecreation
 al Activities in the Community
DTSTART;TZID=America/New_York:20160430T110000
DTEND;TZID=America/New_York:20160430T140000
LOCATION:The Arc Mercer\, 180 Ewingville Road\, Ewing\, NJ 08638
SUMMARY:The Arc Mercer: FREE Family Support Coordinator Fair
END:VEVENT
END:VCALENDAR
