BEGIN:VCALENDAR
VERSION:2.0
PRODID:-//www.thearcfamilyinstitute.org//NONSGML kigkonsult.se iCalcreator 
 2.30.10//
CALSCALE:GREGORIAN
METHOD:PUBLISH
UID:daf7887a-91e1-45b4-b0e5-78957b8546fc
X-WR-CALDESC:Presented by: The Commission on Child Abuse and Missing Childr
 en\, Friends of Somerset County Youth and The Arc of New Jersey\n\nThis wo
 rkshop will provide an overview of the Intellectual and Developmental Disa
 bilities (I/DD) population\, will review how and why individuals with I/DD
  are at an increased risk for abuse and neglect in their homes and communi
 ties\, will discuss barriers families face when discussing sexuality with 
 youth with I/DD and other developmental disabilities\, and why it is so im
 portant to have these discussions with these youths. Participants will gai
 n insight into the sibling experience as well as the variety of ways sibli
 ngs can be allies in identifying\npossible abuse/neglect and mitigating it
  within the family.\n\nFor information\, contact Mariann Bruno at mbruno@c
 o.somerset.nj.us
X-WR-RELCALID:d05ec4ccd6cecd47fb36ad817251a818
X-WR-TIMEZONE:America/New_York
BEGIN:VTIMEZONE
TZID:America/New_York
BEGIN:STANDARD
TZNAME:EST
DTSTART:20151101T020000
TZOFFSETFROM:-0400
TZOFFSETTO:-0500
RDATE:20161106T020000
END:STANDARD
BEGIN:DAYLIGHT
TZNAME:EDT
DTSTART:20160313T020000
TZOFFSETFROM:-0500
TZOFFSETTO:-0400
RDATE:20170312T020000
END:DAYLIGHT
END:VTIMEZONE
BEGIN:VEVENT
UID:da744efe-29c1-44d2-a70b-1119e263db33
DTSTAMP:20260425T023913Z
DESCRIPTION:Presented by: The Commission on Child Abuse and Missing Childre
 n\, Friends of Somerset County Youth and The Arc of New Jersey\n\nThis wor
 kshop will provide an overview of the Intellectual and Developmental Disab
 ilities (I/DD) population\, will review how and why individuals with I/DD 
 are at an increased risk for abuse and neglect in their homes and communit
 ies\, will discuss barriers families face when discussing sexuality with y
 outh with I/DD and other developmental disabilities\, and why it is so imp
 ortant to have these discussions with these youths. Participants will gain
  insight into the sibling experience as well as the variety of ways siblin
 gs can be allies in identifying\npossible abuse/neglect and mitigating it 
 within the family.\n\nFor information\, contact Mariann Bruno at mbruno@co
 .somerset.nj.us
DTSTART;TZID=America/New_York:20160429T090000
DTEND;TZID=America/New_York:20160429T120000
LOCATION:Somerville Lodge No. 1068. B.P.O. ELKS\, 375 Union Avenue\, (Route
  28) Bridgewater\, 08807
SUMMARY:Somerset County Annual Spring Forum: Children with Developmental Di
 sabilities - Keeping Them Safe
END:VEVENT
END:VCALENDAR
