BEGIN:VCALENDAR
VERSION:2.0
PRODID:-//www.thearcfamilyinstitute.org//NONSGML kigkonsult.se iCalcreator 
 2.30.10//
CALSCALE:GREGORIAN
METHOD:PUBLISH
UID:25051e8d-63ea-465b-84e1-63a537856353
X-WR-CALDESC:The Workforce Innovation and Opportunity Act (WIOA) was signed
  into law July 2014\, and there are significant changes for the national p
 ublic vocational rehabilitation program. \n\nAlice Hunnicutt\, the State D
 irector of the Division of Vocational Rehabilitation Services (DVRS) is in
 terested in discussing these important changes with families who will be i
 mpacted by the new federal legislation.
X-WR-RELCALID:9e2c950725c20a264bdc3b32772dd9c1
X-WR-TIMEZONE:America/New_York
BEGIN:VTIMEZONE
TZID:America/New_York
BEGIN:STANDARD
TZNAME:EST
DTSTART:20151101T020000
TZOFFSETFROM:-0400
TZOFFSETTO:-0500
RDATE:20161106T020000
END:STANDARD
BEGIN:DAYLIGHT
TZNAME:EDT
DTSTART:20160313T020000
TZOFFSETFROM:-0500
TZOFFSETTO:-0400
RDATE:20170312T020000
END:DAYLIGHT
END:VTIMEZONE
BEGIN:VEVENT
UID:56bcb204-000b-48db-9c7d-beebe2b09e11
DTSTAMP:20260425T024455Z
DESCRIPTION:The Workforce Innovation and Opportunity Act (WIOA) was signed 
 into law July 2014\, and there are significant changes for the national pu
 blic vocational rehabilitation program. \n\nAlice Hunnicutt\, the State Di
 rector of the Division of Vocational Rehabilitation Services (DVRS) is int
 erested in discussing these important changes with families who will be im
 pacted by the new federal legislation.
DTSTART;TZID=America/New_York:20160426T193000
DTEND;TZID=America/New_York:20160426T210000
LOCATION:The Arc of Camden County\, 215 W. White Horse Pike\, Berlin\, 0800
 9
SUMMARY:The Arc of Camden: The Division of Vocational Rehabilitation Servic
 es (DVRS): Dialogue with the  Director
END:VEVENT
END:VCALENDAR
