BEGIN:VCALENDAR
VERSION:2.0
PRODID:-//www.thearcfamilyinstitute.org//NONSGML kigkonsult.se iCalcreator 
 2.30.10//
CALSCALE:GREGORIAN
METHOD:PUBLISH
UID:d4526921-cdd3-41c2-a882-4aae299aea62
X-WR-CALDESC:It can be difficult to locate programs to address specific nee
 ds of people with intellectual and developmental disabilities. Substance a
 buse treatment programs which are effective for people without cognitive d
 isabilities may not be prepared to work with clients who have a developmen
 tal disability. The Crossings Program has been designed for this populatio
 n and can address the particular needs of people who have developmental di
 sabilities and struggle with addiction. \n\nPlease join us as an experienc
 ed mental health clinician describes a program with a wellness approach wh
 ich is geared to meet the needs of this underserved population. \n\nPresen
 ter: Lida Pascual\, LCSW\, LCADC \nCrossings Outpatient Program\, Rutgers 
 University Behavioral Health Care \nSpecialized Addiction Treatment Servic
 es \nNew Brunswick NJ
X-WR-RELCALID:08a3118a69cf8a504cc77d0afaee000a
X-WR-TIMEZONE:America/New_York
BEGIN:VTIMEZONE
TZID:America/New_York
BEGIN:STANDARD
TZNAME:EST
DTSTART:20151101T020000
TZOFFSETFROM:-0400
TZOFFSETTO:-0500
RDATE:20161106T020000
END:STANDARD
BEGIN:DAYLIGHT
TZNAME:EDT
DTSTART:20160313T020000
TZOFFSETFROM:-0500
TZOFFSETTO:-0400
RDATE:20170312T020000
END:DAYLIGHT
END:VTIMEZONE
BEGIN:VEVENT
UID:649c4c93-b4d0-46fb-bd0d-1016fbfd05f6
DTSTAMP:20260425T024118Z
DESCRIPTION:It can be difficult to locate programs to address specific need
 s of people with intellectual and developmental disabilities. Substance ab
 use treatment programs which are effective for people without cognitive di
 sabilities may not be prepared to work with clients who have a development
 al disability. The Crossings Program has been designed for this population
  and can address the particular needs of people who have developmental dis
 abilities and struggle with addiction. \n\nPlease join us as an experience
 d mental health clinician describes a program with a wellness approach whi
 ch is geared to meet the needs of this underserved population. \n\nPresent
 er: Lida Pascual\, LCSW\, LCADC \nCrossings Outpatient Program\, Rutgers U
 niversity Behavioral Health Care \nSpecialized Addiction Treatment Service
 s \nNew Brunswick NJ
DTSTART;TZID=America/New_York:20160421T130000
DTEND;TZID=America/New_York:20160421T140000
LOCATION:
SUMMARY:Webinar: Overview of CROSSINGS: RUBHC Outpatient Substance Abuse Tr
 eatment Program for People with Developmental & Physical Disabilities
END:VEVENT
END:VCALENDAR
