BEGIN:VCALENDAR
VERSION:2.0
PRODID:-//www.thearcfamilyinstitute.org//NONSGML kigkonsult.se iCalcreator 
 2.30.10//
CALSCALE:GREGORIAN
METHOD:PUBLISH
UID:26c5160d-d810-4df9-8e36-46a35ea124a2
X-WR-CALDESC:Join us as we discuss with Self Advocates how you can help pre
 pare your student for life after high school. They will share their own st
 ories of success\, difficulties\, and lessons learned. This webinar is gea
 red for students\, their families and professionals in the field.
X-WR-RELCALID:5de3b32812b49adadcc9a3b5f0f55fa7
X-WR-TIMEZONE:America/New_York
BEGIN:VTIMEZONE
TZID:America/New_York
BEGIN:STANDARD
TZNAME:EST
DTSTART:20151101T020000
TZOFFSETFROM:-0400
TZOFFSETTO:-0500
RDATE:20161106T020000
END:STANDARD
BEGIN:DAYLIGHT
TZNAME:EDT
DTSTART:20160313T020000
TZOFFSETFROM:-0500
TZOFFSETTO:-0400
RDATE:20170312T020000
END:DAYLIGHT
END:VTIMEZONE
BEGIN:VEVENT
UID:6e3cf0e1-4c3f-47d9-964e-d6b1ff29945c
DTSTAMP:20260425T024119Z
DESCRIPTION:Join us as we discuss with Self Advocates how you can help prep
 are your student for life after high school. They will share their own sto
 ries of success\, difficulties\, and lessons learned. This webinar is gear
 ed for students\, their families and professionals in the field.
DTSTART;TZID=America/New_York:20160420T180000
DTEND;TZID=America/New_York:20160420T190000
LOCATION:
SUMMARY:Webinar: Self-Advocate's Perspective On How To Get Connected To The
  Community
END:VEVENT
END:VCALENDAR
