BEGIN:VCALENDAR
VERSION:2.0
PRODID:-//www.thearcfamilyinstitute.org//NONSGML kigkonsult.se iCalcreator 
 2.30.10//
CALSCALE:GREGORIAN
METHOD:PUBLISH
UID:1e8ca8ed-777c-4988-860d-4934a0b38dd2
X-WR-CALDESC:These events are held throughout the state and consists of a P
 arent Forum that includes workshops (45-60 minutes) on specific topics inc
 luding support coordination\, the continuum of community services\, financ
 ial planning\, eligibility requirements\, and where to find help. The Oppo
 rtunity Expo features a variety of exhibitors including: state and county 
 government entities\, community service providers\, service coordinators\,
  local health care support and recreation providers\, additional informati
 on and referral services. Families will have an opportunity to be introduc
 ed to opportunities in their area as well as interview potential services 
 to hire. You don't want to miss it!
X-WR-RELCALID:9c69de27f45b833baee37fb6fb8500dc
X-WR-TIMEZONE:America/New_York
BEGIN:VTIMEZONE
TZID:America/New_York
BEGIN:STANDARD
TZNAME:EST
DTSTART:20151101T020000
TZOFFSETFROM:-0400
TZOFFSETTO:-0500
RDATE:20161106T020000
END:STANDARD
BEGIN:DAYLIGHT
TZNAME:EDT
DTSTART:20160313T020000
TZOFFSETFROM:-0500
TZOFFSETTO:-0400
RDATE:20170312T020000
END:DAYLIGHT
END:VTIMEZONE
BEGIN:VEVENT
UID:36594efe-e82e-4021-a494-714ad921e63d
DTSTAMP:20260425T024311Z
DESCRIPTION:These events are held throughout the state and consists of a Pa
 rent Forum that includes workshops (45-60 minutes) on specific topics incl
 uding support coordination\, the continuum of community services\, financi
 al planning\, eligibility requirements\, and where to find help. The Oppor
 tunity Expo features a variety of exhibitors including: state and county g
 overnment entities\, community service providers\, service coordinators\, 
 local health care support and recreation providers\, additional informatio
 n and referral services. Families will have an opportunity to be introduce
 d to opportunities in their area as well as interview potential services t
 o hire. You don't want to miss it!
DTSTART;TZID=America/New_York:20160416T090000
DTEND;TZID=America/New_York:20160416T130000
LOCATION:Stockton University\, 101 Vera King Farris Drive\, Galloway\, NJ 0
 8205
SUMMARY:FREE Parent Forum and Opportunity Expo at Stockton University
END:VEVENT
END:VCALENDAR
