BEGIN:VCALENDAR
VERSION:2.0
PRODID:-//www.thearcfamilyinstitute.org//NONSGML kigkonsult.se iCalcreator 
 2.30.10//
CALSCALE:GREGORIAN
METHOD:PUBLISH
UID:a8989510-62fa-47fc-a504-8bc840ead1fe
X-WR-CALDESC:Join The Arc of New Jersey Family Institute and SIBS NJ as we 
 honor National Sibling Day with a webinar presentation and a virtual panel
  discussion.\n\nThe role of a sibling in the life of a person with an inte
 llectual and developmental disability (I/DD) is as complex as it is meanin
 gful. Siblings play a key role in the care and social development of their
  sibling and that can leave some feeling overwhelmed. Empowering siblings 
 throughout each stage of life\, will prepare them for their caregiver role
  and hopefully ease some anxieties they might feel. \n\nWebinar Presented 
 By: Kara Sellix\, MSW\, LSW\, President & Co-Founder of SIBS NJ (www.sibsn
 j.org)\nPanelist: Kara Sellix\, Kristen Sellix\, Kelly Lestrange\, Cheryl 
 Crick — More to be announced \n
X-WR-RELCALID:659e29cdbc854981363fa115db484c79
X-WR-TIMEZONE:America/New_York
BEGIN:VTIMEZONE
TZID:America/New_York
BEGIN:STANDARD
TZNAME:EST
DTSTART:20151101T020000
TZOFFSETFROM:-0400
TZOFFSETTO:-0500
RDATE:20161106T020000
END:STANDARD
BEGIN:DAYLIGHT
TZNAME:EDT
DTSTART:20160313T020000
TZOFFSETFROM:-0500
TZOFFSETTO:-0400
RDATE:20170312T020000
END:DAYLIGHT
END:VTIMEZONE
BEGIN:VEVENT
UID:62fe7ec1-8e33-4a63-bf70-8894c8c8cfd3
DTSTAMP:20260425T022529Z
DESCRIPTION:Join The Arc of New Jersey Family Institute and SIBS NJ as we h
 onor National Sibling Day with a webinar presentation and a virtual panel 
 discussion.\n\nThe role of a sibling in the life of a person with an intel
 lectual and developmental disability (I/DD) is as complex as it is meaning
 ful. Siblings play a key role in the care and social development of their 
 sibling and that can leave some feeling overwhelmed. Empowering siblings t
 hroughout each stage of life\, will prepare them for their caregiver role 
 and hopefully ease some anxieties they might feel. \n\nWebinar Presented B
 y: Kara Sellix\, MSW\, LSW\, President & Co-Founder of SIBS NJ (www.sibsnj
 .org)\nPanelist: Kara Sellix\, Kristen Sellix\, Kelly Lestrange\, Cheryl C
 rick — More to be announced \n
DTSTART;TZID=America/New_York:20160411T180000
DTEND;TZID=America/New_York:20160411T190000
LOCATION:
SUMMARY:Webinar and Panel Discussion: Supporting Siblings Throughout the Li
 fespan
END:VEVENT
END:VCALENDAR
