BEGIN:VCALENDAR
VERSION:2.0
PRODID:-//www.thearcfamilyinstitute.org//NONSGML kigkonsult.se iCalcreator 
 2.30.10//
CALSCALE:GREGORIAN
METHOD:PUBLISH
UID:645cec65-9076-4afb-9881-67d074ca4353
X-WR-CALDESC:Who Should Attend?\nSelf-advocates\;\nParents and family membe
 rs of individuals with disabilities\;\nBoard members\, staff\, trainees\, 
 and volunteers for disability organizations\;\nState and local public poli
 cy committee members\;\nPublic policy staff\; or\nConstituents\nDuring thi
 s crucial election season we need YOU in Washington\, D.C. to help us buil
 d bipartisan support on Capitol Hill for high-priority disability issues. 
 When you attend the Disability Policy Seminar\, we'll arm you with all of 
 the information you need to help educate our Members of Congress and their
  staff on the priorities of the I/DD community. Then\, you can return to y
 our hometowns with the ability to spread the word\, educate new advocates 
 and reach out to the candidates to help put the needs of people with I/DD 
 front and center on the campaign trail this year.
X-WR-RELCALID:df463391b9b6a55fade520c923614281
X-WR-TIMEZONE:America/New_York
BEGIN:VTIMEZONE
TZID:America/New_York
BEGIN:STANDARD
TZNAME:EST
DTSTART:20151101T020000
TZOFFSETFROM:-0400
TZOFFSETTO:-0500
RDATE:20161106T020000
END:STANDARD
BEGIN:DAYLIGHT
TZNAME:EDT
DTSTART:20160313T020000
TZOFFSETFROM:-0500
TZOFFSETTO:-0400
RDATE:20170312T020000
END:DAYLIGHT
END:VTIMEZONE
BEGIN:VEVENT
UID:1102c267-91ca-4c2e-9956-6a378e1a20bb
DTSTAMP:20260425T024225Z
DESCRIPTION:Who Should Attend?\nSelf-advocates\;\nParents and family member
 s of individuals with disabilities\;\nBoard members\, staff\, trainees\, a
 nd volunteers for disability organizations\;\nState and local public polic
 y committee members\;\nPublic policy staff\; or\nConstituents\nDuring this
  crucial election season we need YOU in Washington\, D.C. to help us build
  bipartisan support on Capitol Hill for high-priority disability issues. W
 hen you attend the Disability Policy Seminar\, we'll arm you with all of t
 he information you need to help educate our Members of Congress and their 
 staff on the priorities of the I/DD community. Then\, you can return to yo
 ur hometowns with the ability to spread the word\, educate new advocates a
 nd reach out to the candidates to help put the needs of people with I/DD f
 ront and center on the campaign trail this year.
DTSTART;TZID=America/New_York:20160411T000000
DTEND;TZID=America/New_York:20160413T235900
LOCATION:The Renaissance Washington\, DC Downtown Hotel
SUMMARY:The Arc of the U.S. Disability Policy Seminar
END:VEVENT
END:VCALENDAR
