BEGIN:VCALENDAR
VERSION:2.0
PRODID:-//www.thearcfamilyinstitute.org//NONSGML kigkonsult.se iCalcreator 
 2.30.10//
CALSCALE:GREGORIAN
METHOD:PUBLISH
UID:b37aad26-e856-43ef-9ac4-3df919e8fb2e
X-WR-CALDESC:Child care can be arranged in advance by calling ahead. Dinner
  will be provided at the event.
X-WR-RELCALID:1d602cad2ab2c67f3b02958f8d827a66
X-WR-TIMEZONE:America/New_York
BEGIN:VTIMEZONE
TZID:America/New_York
BEGIN:STANDARD
TZNAME:EST
DTSTART:20151101T020000
TZOFFSETFROM:-0400
TZOFFSETTO:-0500
RDATE:20161106T020000
END:STANDARD
BEGIN:DAYLIGHT
TZNAME:EDT
DTSTART:20160313T020000
TZOFFSETFROM:-0500
TZOFFSETTO:-0400
RDATE:20170312T020000
END:DAYLIGHT
END:VTIMEZONE
BEGIN:VEVENT
UID:02cdb799-d44e-44a8-ab4d-578b5af756a7
DTSTAMP:20260425T023338Z
DESCRIPTION:Child care can be arranged in advance by calling ahead. Dinner 
 will be provided at the event.
DTSTART;TZID=America/New_York:20160410T180000
DTEND;TZID=America/New_York:20160410T200000
LOCATION:Montgomery Academy\, 188 Mt. Airy Road\, Basking Ridge\, 07920
SUMMARY:Parent Networking Night and Provider fair
END:VEVENT
END:VCALENDAR
