BEGIN:VCALENDAR
VERSION:2.0
PRODID:-//www.thearcfamilyinstitute.org//NONSGML kigkonsult.se iCalcreator 
 2.30.10//
CALSCALE:GREGORIAN
METHOD:PUBLISH
UID:41457ab6-9fba-4779-8eed-e509597a572d
X-WR-CALDESC:Calling all students with intellectual and developmental disab
 ilities and their families. \n\nJoin The Arc of New Jersey Family Institut
 e for a tour of the Garden State Pathways Program at Camden County College
 . Students will have an opportunity to visit the campus and learn about th
 e different aspects of a college experience\, while families learn about t
 he Garden State Pathways Program and its educational\, vocational and camp
 us life supports. \n\nThe Garden State Pathways Program is a post-secondar
 y\, transitional program sponsored by Camden County College in Blackwood\,
  New Jersey and designed for students with intellectual and developmental 
 disabilities. The program serves students 18 years of age or older who are
  eligible for or received IDEA funding and are interested in learning a wo
 rk-related skill\, as well as enhancing their independence with life skill
 s. For students who prefer to remain under the IDEA entitlement until age 
 21\, they may enter the program after meeting all high school requirements
 \, despite not having accepted their official diploma. After completing al
 l required courses and work experiences in this two-year program\, student
 s receive a certificate of Postsecondary Studies (CPS) from Camden County 
 College.
X-WR-RELCALID:112a2cafc46762fd18bb1fcb3c14015c
X-WR-TIMEZONE:America/New_York
BEGIN:VTIMEZONE
TZID:America/New_York
BEGIN:STANDARD
TZNAME:EST
DTSTART:20151101T020000
TZOFFSETFROM:-0400
TZOFFSETTO:-0500
RDATE:20161106T020000
END:STANDARD
BEGIN:DAYLIGHT
TZNAME:EDT
DTSTART:20160313T020000
TZOFFSETFROM:-0500
TZOFFSETTO:-0400
RDATE:20170312T020000
END:DAYLIGHT
END:VTIMEZONE
BEGIN:VEVENT
UID:14fe6dc0-950e-4c7e-bbbd-2b94cf4a01bc
DTSTAMP:20260425T024342Z
DESCRIPTION:Calling all students with intellectual and developmental disabi
 lities and their families. \n\nJoin The Arc of New Jersey Family Institute
  for a tour of the Garden State Pathways Program at Camden County College.
  Students will have an opportunity to visit the campus and learn about the
  different aspects of a college experience\, while families learn about th
 e Garden State Pathways Program and its educational\, vocational and campu
 s life supports. \n\nThe Garden State Pathways Program is a post-secondary
 \, transitional program sponsored by Camden County College in Blackwood\, 
 New Jersey and designed for students with intellectual and developmental d
 isabilities. The program serves students 18 years of age or older who are 
 eligible for or received IDEA funding and are interested in learning a wor
 k-related skill\, as well as enhancing their independence with life skills
 . For students who prefer to remain under the IDEA entitlement until age 2
 1\, they may enter the program after meeting all high school requirements\
 , despite not having accepted their official diploma. After completing all
  required courses and work experiences in this two-year program\, students
  receive a certificate of Postsecondary Studies (CPS) from Camden County C
 ollege.
DTSTART;TZID=America/New_York:20160402T110000
DTEND;TZID=America/New_York:20160402T130000
LOCATION:College Drive\, Blackwood\, NJ 08012
SUMMARY:Family and Student Tour of the Garden State Pathways Program at Cam
 den County College
END:VEVENT
END:VCALENDAR
