BEGIN:VCALENDAR
VERSION:2.0
PRODID:-//www.thearcfamilyinstitute.org//NONSGML kigkonsult.se iCalcreator 
 2.30.10//
CALSCALE:GREGORIAN
METHOD:PUBLISH
UID:44660542-0e15-4de9-bfed-45c435e1e339
X-WR-CALDESC:The Live Supports Program Q&A Sessions provide an opportunity 
 for individuals\, families\, support coordination agencies\, and providers
  to ask questions\, share issues\, and get the latest news related to the 
 Division of Developmental Disabilities Supports Program. All sessions are 
 conducted by Jennifer Joyce\, Director\, Supports Program and Employment S
 ervices.
X-WR-RELCALID:0dcfa25b6f1dd816a19fb4b290b1ebc0
X-WR-TIMEZONE:America/New_York
BEGIN:VTIMEZONE
TZID:America/New_York
BEGIN:STANDARD
TZNAME:EST
DTSTART:20151101T020000
TZOFFSETFROM:-0400
TZOFFSETTO:-0500
RDATE:20161106T020000
END:STANDARD
BEGIN:DAYLIGHT
TZNAME:EDT
DTSTART:20160313T020000
TZOFFSETFROM:-0500
TZOFFSETTO:-0400
RDATE:20170312T020000
END:DAYLIGHT
END:VTIMEZONE
BEGIN:VEVENT
UID:f8589f91-6e7c-469b-8e3e-416aa641a9dd
DTSTAMP:20260425T034859Z
DESCRIPTION:The Live Supports Program Q&A Sessions provide an opportunity f
 or individuals\, families\, support coordination agencies\, and providers 
 to ask questions\, share issues\, and get the latest news related to the D
 ivision of Developmental Disabilities Supports Program. All sessions are c
 onducted by Jennifer Joyce\, Director\, Supports Program and Employment Se
 rvices.
DTSTART;TZID=America/New_York:20160324T150000
DTEND;TZID=America/New_York:20160324T160000
LOCATION:
SUMMARY:DDD Sponsored Webinar: Live Supports Program Q&A Session
END:VEVENT
END:VCALENDAR
