BEGIN:VCALENDAR
VERSION:2.0
PRODID:-//www.thearcfamilyinstitute.org//NONSGML kigkonsult.se iCalcreator 
 2.30.10//
CALSCALE:GREGORIAN
METHOD:PUBLISH
UID:9ace9c5a-806a-4556-8dcb-89cbfbcd502a
X-WR-CALDESC:Navigating the Criminal Justice System for People with Develop
 mental Disabilities \nFor families\, direct support providers\, self-advoc
 ates and anyone else who is looking for information and strategies to impr
 ove communication between criminal justice professionals and the developme
 ntal disability community\, this Webinar will provide you with a valuable 
 overview. For members of the community who have disabilities\, their loved
  ones and support providers\, an interaction with law enforcement and the 
 court system can be done safely and with positive results. Join us for som
 e tips on communication strategies. \n\nJessica Oppenheim\, Esq. Director 
 of the Criminal Justice Advocacy Program will be the presenter for this on
 e-hour overview.
X-WR-RELCALID:57a7de891d160926ac724b6600de6471
X-WR-TIMEZONE:America/New_York
BEGIN:VTIMEZONE
TZID:America/New_York
BEGIN:STANDARD
TZNAME:EST
DTSTART:20151101T020000
TZOFFSETFROM:-0400
TZOFFSETTO:-0500
RDATE:20161106T020000
END:STANDARD
BEGIN:DAYLIGHT
TZNAME:EDT
DTSTART:20160313T020000
TZOFFSETFROM:-0500
TZOFFSETTO:-0400
RDATE:20170312T020000
END:DAYLIGHT
END:VTIMEZONE
BEGIN:VEVENT
UID:b823b036-2144-4b22-a3cd-54f6205965bf
DTSTAMP:20260425T034955Z
DESCRIPTION:Navigating the Criminal Justice System for People with Developm
 ental Disabilities \nFor families\, direct support providers\, self-advoca
 tes and anyone else who is looking for information and strategies to impro
 ve communication between criminal justice professionals and the developmen
 tal disability community\, this Webinar will provide you with a valuable o
 verview. For members of the community who have disabilities\, their loved 
 ones and support providers\, an interaction with law enforcement and the c
 ourt system can be done safely and with positive results. Join us for some
  tips on communication strategies. \n\nJessica Oppenheim\, Esq. Director o
 f the Criminal Justice Advocacy Program will be the presenter for this one
 -hour overview.
DTSTART;TZID=America/New_York:20160317T130000
DTEND;TZID=America/New_York:20160317T140000
LOCATION:
SUMMARY:Webinar: Navigating the Criminal Justice System for People with Dev
 elopmental Disabilities
END:VEVENT
END:VCALENDAR
