BEGIN:VCALENDAR
VERSION:2.0
PRODID:-//www.thearcfamilyinstitute.org//NONSGML kigkonsult.se iCalcreator 
 2.30.10//
CALSCALE:GREGORIAN
METHOD:PUBLISH
UID:7d2f7ccf-b770-47fd-9fca-b55673fb26fd
X-WR-CALDESC:Everyone has a right to be involved in their community. There 
 are many supports for people with disabilities to help them do just that. 
 This webinar will discuss services for accessing the community. It will al
 so include conversations on how to navigate some of the challenges associa
 ted with accessing services.
X-WR-RELCALID:003e6b742677d04bf2651756e452aab8
X-WR-TIMEZONE:America/New_York
BEGIN:VTIMEZONE
TZID:America/New_York
BEGIN:STANDARD
TZNAME:EST
DTSTART:20151101T020000
TZOFFSETFROM:-0400
TZOFFSETTO:-0500
RDATE:20161106T020000
END:STANDARD
BEGIN:DAYLIGHT
TZNAME:EDT
DTSTART:20160313T020000
TZOFFSETFROM:-0500
TZOFFSETTO:-0400
RDATE:20170312T020000
END:DAYLIGHT
END:VTIMEZONE
BEGIN:VEVENT
UID:036eabc7-9c6e-4f23-8560-d8443ec831c2
DTSTAMP:20260425T034952Z
DESCRIPTION:Everyone has a right to be involved in their community. There a
 re many supports for people with disabilities to help them do just that. T
 his webinar will discuss services for accessing the community. It will als
 o include conversations on how to navigate some of the challenges associat
 ed with accessing services.
DTSTART;TZID=America/New_York:20160316T180000
DTEND;TZID=America/New_York:20160316T190000
LOCATION:
SUMMARY:Webinar: Accessing Natural Supports and Services
END:VEVENT
END:VCALENDAR
