BEGIN:VCALENDAR
VERSION:2.0
PRODID:-//www.thearcfamilyinstitute.org//NONSGML kigkonsult.se iCalcreator 
 2.30.10//
CALSCALE:GREGORIAN
METHOD:PUBLISH
UID:f60358f7-f1be-40b9-a2c9-19c8e37ea630
X-WR-CALDESC:Presented by Hinkle\, Fingles\, Prior & Fischer Attorneys at L
 aw\, and hosted by The Arc of New Jersey Family Institute\, this webinar w
 ill discuss guardianship issues for people with intellectual and developme
 ntal disabilities. \n\nThe issue of guardianship for individuals with inte
 llectual and developmental disabilities can be complex and confusing. Join
  us for this informative webinar which will discuss the various methods of
  “surrogate decision-making”\, how to balance a person’s independence with
  a need for assistance\, and how to make the best informed decision possib
 le for your family member. \n\nPresented by S. Paul Prior\, Esq.
X-WR-RELCALID:a41b8719b3097a4dc18816c64aaa3016
X-WR-TIMEZONE:America/New_York
BEGIN:VTIMEZONE
TZID:America/New_York
BEGIN:STANDARD
TZNAME:EST
DTSTART:20151101T020000
TZOFFSETFROM:-0400
TZOFFSETTO:-0500
RDATE:20161106T020000
END:STANDARD
BEGIN:DAYLIGHT
TZNAME:EDT
DTSTART:20160313T020000
TZOFFSETFROM:-0500
TZOFFSETTO:-0400
RDATE:20170312T020000
END:DAYLIGHT
END:VTIMEZONE
BEGIN:VEVENT
UID:b0b27440-46aa-4dab-9e22-4b03fb6b3295
DTSTAMP:20260425T034954Z
DESCRIPTION:Presented by Hinkle\, Fingles\, Prior & Fischer Attorneys at La
 w\, and hosted by The Arc of New Jersey Family Institute\, this webinar wi
 ll discuss guardianship issues for people with intellectual and developmen
 tal disabilities. \n\nThe issue of guardianship for individuals with intel
 lectual and developmental disabilities can be complex and confusing. Join 
 us for this informative webinar which will discuss the various methods of 
 “surrogate decision-making”\, how to balance a person’s independence with 
 a need for assistance\, and how to make the best informed decision possibl
 e for your family member. \n\nPresented by S. Paul Prior\, Esq.
DTSTART;TZID=America/New_York:20160314T183000
DTEND;TZID=America/New_York:20160314T193000
LOCATION:
SUMMARY:Webinar: Guardianship and Surrogate Decision-Making
END:VEVENT
END:VCALENDAR
