BEGIN:VCALENDAR
VERSION:2.0
PRODID:-//www.thearcfamilyinstitute.org//NONSGML kigkonsult.se iCalcreator 
 2.30.10//
CALSCALE:GREGORIAN
METHOD:PUBLISH
UID:5a2f038e-556f-4451-b118-04d453cfc3ee
X-WR-CALDESC:Whether you’re a case manager\, transition coordinator\, princ
 ipal\, school personnel or a member of the child study team\, this tour is
  for you.\n\nJoin The Arc of New Jersey Family Institute for a tour at Bro
 okdale Community College. The Arc of Monmouth has collaborated with Brookd
 ale Community College to address the needs of transitioning young adults w
 ith intellectual and developmental disabilities ages 18 – 26. Kach provide
 s a variety of classroom and experiential learning at the college and in t
 he community.
X-WR-RELCALID:424809a1c96012620fcc52528668f7c9
X-WR-TIMEZONE:America/New_York
BEGIN:VTIMEZONE
TZID:America/New_York
BEGIN:STANDARD
TZNAME:EST
DTSTART:20151101T020000
TZOFFSETFROM:-0400
TZOFFSETTO:-0500
RDATE:20161106T020000
END:STANDARD
BEGIN:DAYLIGHT
TZNAME:EDT
DTSTART:20160313T020000
TZOFFSETFROM:-0500
TZOFFSETTO:-0400
RDATE:20170312T020000
END:DAYLIGHT
END:VTIMEZONE
BEGIN:VEVENT
UID:15d62c31-f0ac-46a0-840d-d31b726bc5a6
DTSTAMP:20260425T035358Z
DESCRIPTION:Whether you’re a case manager\, transition coordinator\, princi
 pal\, school personnel or a member of the child study team\, this tour is 
 for you.\n\nJoin The Arc of New Jersey Family Institute for a tour at Broo
 kdale Community College. The Arc of Monmouth has collaborated with Brookda
 le Community College to address the needs of transitioning young adults wi
 th intellectual and developmental disabilities ages 18 – 26. Kach provides
  a variety of classroom and experiential learning at the college and in th
 e community.
DTSTART;TZID=America/New_York:20160311T100000
DTEND;TZID=America/New_York:20160311T120000
LOCATION:765 Newman Springs Road\, Lincroft\, NJ 07738
SUMMARY:For School Professionals: Keep Achieving (Kach) at Brookdale Tour
END:VEVENT
END:VCALENDAR
