BEGIN:VCALENDAR
VERSION:2.0
PRODID:-//www.thearcfamilyinstitute.org//NONSGML kigkonsult.se iCalcreator 
 2.30.10//
CALSCALE:GREGORIAN
METHOD:PUBLISH
UID:239ad2c1-5019-4252-90fc-36ae5842e856
X-WR-CALDESC:
X-WR-RELCALID:ebb6e8b8f481d3685f77a43e4062bf82
X-WR-TIMEZONE:America/New_York
BEGIN:VTIMEZONE
TZID:America/New_York
BEGIN:STANDARD
TZNAME:EST
DTSTART:20151101T020000
TZOFFSETFROM:-0400
TZOFFSETTO:-0500
RDATE:20161106T020000
END:STANDARD
BEGIN:DAYLIGHT
TZNAME:EDT
DTSTART:20160313T020000
TZOFFSETFROM:-0500
TZOFFSETTO:-0400
RDATE:20170312T020000
END:DAYLIGHT
END:VTIMEZONE
BEGIN:VEVENT
UID:0f789033-4120-42d6-ba72-19ca8e156f83
DTSTAMP:20260425T034853Z
DESCRIPTION:
DTSTART;TZID=America/New_York:20160309T180000
DTEND;TZID=America/New_York:20160309T193000
LOCATION:Bayonne Community Museum 229 Broadway Bayonne \, NJ 07002
SUMMARY:Basic Rights in Special Education: Hudson County
END:VEVENT
END:VCALENDAR
