BEGIN:VCALENDAR
VERSION:2.0
PRODID:-//www.thearcfamilyinstitute.org//NONSGML kigkonsult.se iCalcreator 
 2.30.10//
CALSCALE:GREGORIAN
METHOD:PUBLISH
UID:bb352b9d-f55c-4680-ab71-756df9edbe31
X-WR-CALDESC:Hear from a panel of people who have taken this path… they cho
 se work. And their paths do not all look the same. Let them tell you of th
 eir journey to find work\, the kind of work they do\, the obstacles they f
 aced along the way and why they are happy where they are. Hear about the s
 upports that make the difference in a successful employment experience.
X-WR-RELCALID:682b46c0b1d2dbdb477437f71d0b9071
X-WR-TIMEZONE:America/New_York
BEGIN:VTIMEZONE
TZID:America/New_York
BEGIN:STANDARD
TZNAME:EST
DTSTART:20141102T020000
TZOFFSETFROM:-0400
TZOFFSETTO:-0500
RDATE:20151101T020000
RDATE:20161106T020000
END:STANDARD
BEGIN:DAYLIGHT
TZNAME:EDT
DTSTART:20150308T020000
TZOFFSETFROM:-0500
TZOFFSETTO:-0400
RDATE:20160313T020000
RDATE:20170312T020000
END:DAYLIGHT
END:VTIMEZONE
BEGIN:VEVENT
UID:b4183040-7b6a-46e8-9503-02b95f8c875f
DTSTAMP:20260425T104156Z
DESCRIPTION:Hear from a panel of people who have taken this path… they chos
 e work. And their paths do not all look the same. Let them tell you of the
 ir journey to find work\, the kind of work they do\, the obstacles they fa
 ced along the way and why they are happy where they are. Hear about the su
 pports that make the difference in a successful employment experience.
DTSTART;TZID=America/New_York:20151027T183000
DTEND;TZID=America/New_York:20151027T203000
LOCATION:The Arc of Monmouth\, 1158 Wayside Road\, Tinton Falls\, NJ 07712
SUMMARY:The Arc of Monmouth: Community Conversaons About Work
END:VEVENT
END:VCALENDAR
