BEGIN:VCALENDAR
VERSION:2.0
PRODID:-//www.thearcfamilyinstitute.org//NONSGML kigkonsult.se iCalcreator 
 2.30.10//
CALSCALE:GREGORIAN
METHOD:PUBLISH
UID:fbb7a610-e4c3-4fd3-b47e-1466a8bbf85a
X-WR-CALDESC:Hosted by Monmouth County Council for Young Children. \n\nCall
 ing all Parents\, Guardians\, and community members…. Please join us to he
 lp make Monmouth County a better place to raise our children. Be involved 
 and help us make a change! Light refreshment will be served.
X-WR-RELCALID:085e45a36aa37005a1b70e1e1ff5e69a
X-WR-TIMEZONE:America/New_York
BEGIN:VTIMEZONE
TZID:America/New_York
BEGIN:STANDARD
TZNAME:EST
DTSTART:20141102T020000
TZOFFSETFROM:-0400
TZOFFSETTO:-0500
RDATE:20151101T020000
RDATE:20161106T020000
END:STANDARD
BEGIN:DAYLIGHT
TZNAME:EDT
DTSTART:20150308T020000
TZOFFSETFROM:-0500
TZOFFSETTO:-0400
RDATE:20160313T020000
RDATE:20170312T020000
END:DAYLIGHT
END:VTIMEZONE
BEGIN:VEVENT
UID:880760e2-93bd-4d35-8b34-64fca37011fd
DTSTAMP:20260425T103741Z
DESCRIPTION:Hosted by Monmouth County Council for Young Children. \n\nCalli
 ng all Parents\, Guardians\, and community members…. Please join us to hel
 p make Monmouth County a better place to raise our children. Be involved a
 nd help us make a change! Light refreshment will be served.
DTSTART;TZID=America/New_York:20151027T123000
DTEND;TZID=America/New_York:20151027T143000
LOCATION:VNAHG\, 176 Riverside Avenue\, Red Bank\, NJ\, 07701
SUMMARY:Serving On Groups That Make Decisions: A Guide For Families
END:VEVENT
END:VCALENDAR
