BEGIN:VCALENDAR
VERSION:2.0
PRODID:-//www.thearcfamilyinstitute.org//NONSGML kigkonsult.se iCalcreator 
 2.30.10//
CALSCALE:GREGORIAN
METHOD:PUBLISH
UID:a093123c-4684-4ebb-85b8-5848337c1124
X-WR-CALDESC:Please join us for our October Stakeholder’s meeting on Monday
  October 26th. Brent Sheppard from MetLife will be here to discuss:\n \n· 
         Government Benefit Eligibility\,\n·         Guardianship\n·       
   Financial Security and Funding Options
X-WR-RELCALID:9d901242c0d90d933b0e0638876bb759
X-WR-TIMEZONE:America/New_York
BEGIN:VTIMEZONE
TZID:America/New_York
BEGIN:STANDARD
TZNAME:EST
DTSTART:20141102T020000
TZOFFSETFROM:-0400
TZOFFSETTO:-0500
RDATE:20151101T020000
RDATE:20161106T020000
END:STANDARD
BEGIN:DAYLIGHT
TZNAME:EDT
DTSTART:20150308T020000
TZOFFSETFROM:-0500
TZOFFSETTO:-0400
RDATE:20160313T020000
RDATE:20170312T020000
END:DAYLIGHT
END:VTIMEZONE
BEGIN:VEVENT
UID:1326fb64-d3e5-4f40-b15d-dfa0baffb999
DTSTAMP:20260425T103850Z
DESCRIPTION:Please join us for our October Stakeholder’s meeting on Monday 
 October 26th. Brent Sheppard from MetLife will be here to discuss:\n \n·  
        Government Benefit Eligibility\,\n·         Guardianship\n·        
  Financial Security and Funding Options
DTSTART;TZID=America/New_York:20151026T190000
DTEND;TZID=America/New_York:20151026T200000
LOCATION:The Arc of Camden County\, 215 W White Horse Pike\, Berlin\, NJ 08
 009
SUMMARY:The Arc of Camden County: Stakeholder's Meeting
END:VEVENT
END:VCALENDAR
