BEGIN:VCALENDAR
VERSION:2.0
PRODID:-//www.thearcfamilyinstitute.org//NONSGML kigkonsult.se iCalcreator 
 2.30.10//
CALSCALE:GREGORIAN
METHOD:PUBLISH
UID:519f9fa3-57f9-435b-bea3-2c26ef17384a
X-WR-CALDESC:
X-WR-RELCALID:36a951a4d45b525188b4ecb57f2e7a64
X-WR-TIMEZONE:America/New_York
BEGIN:VTIMEZONE
TZID:America/New_York
BEGIN:STANDARD
TZNAME:EST
DTSTART:20141102T020000
TZOFFSETFROM:-0400
TZOFFSETTO:-0500
RDATE:20151101T020000
RDATE:20161106T020000
END:STANDARD
BEGIN:DAYLIGHT
TZNAME:EDT
DTSTART:20150308T020000
TZOFFSETFROM:-0500
TZOFFSETTO:-0400
RDATE:20160313T020000
RDATE:20170312T020000
END:DAYLIGHT
END:VTIMEZONE
BEGIN:VEVENT
UID:d0aaa6b6-3ac7-4b5a-86e7-c0cd847f108a
DTSTAMP:20260425T103304Z
DESCRIPTION:
DTSTART;TZID=America/New_York:20151021T110000
DTEND;TZID=America/New_York:20151021T123000
LOCATION:The Arc of Monmouth\, 1158 Wayside Road\, Tinton Falls\, NJ\, 0771
 2
SUMMARY:The Arc of Monmouth: Support Group for Caregivers of  Special Needs
  Children & Adults
END:VEVENT
END:VCALENDAR
