BEGIN:VCALENDAR
VERSION:2.0
PRODID:-//www.thearcfamilyinstitute.org//NONSGML kigkonsult.se iCalcreator 
 2.30.10//
CALSCALE:GREGORIAN
METHOD:PUBLISH
UID:3d354d58-85bd-49c3-a58b-7351bec009e6
X-WR-CALDESC:Free and open to the public\n\nEXHIBITORS TABLES - All Day\nKE
 YNOTE SPEAKERS - 2:30 PM (Limited Seating)\n\nANNE FORD is author of the a
 cclaimed memoir Laughing Allegra about raising her daughter with severe le
 arning disabilities\; On Their Own: Creating an Independent Future for You
 r Adult Child with Learning Disabilities and ADHD\; The  Forgotten Child.\
 ; and A Special Mother. Ford’s story of raising a child with LD has been f
 eatured in Newsweek\, USA Today\, and on NPR\, NBC\, and Lifetime. \n\nJOH
 N-RICHARD THOMPSON\, an award-winning playwright and novelist and has coll
 aborated with Anne Ford at NCLD and on her three previous books\, includin
 g A Special Mother.
X-WR-RELCALID:14d142dfa573ef6304059ad83ed87a26
X-WR-TIMEZONE:America/New_York
BEGIN:VTIMEZONE
TZID:America/New_York
BEGIN:STANDARD
TZNAME:EST
DTSTART:20141102T020000
TZOFFSETFROM:-0400
TZOFFSETTO:-0500
RDATE:20151101T020000
RDATE:20161106T020000
END:STANDARD
BEGIN:DAYLIGHT
TZNAME:EDT
DTSTART:20150308T020000
TZOFFSETFROM:-0500
TZOFFSETTO:-0400
RDATE:20160313T020000
RDATE:20170312T020000
END:DAYLIGHT
END:VTIMEZONE
BEGIN:VEVENT
UID:fa2cae5a-8856-4bdf-9038-153a4b9d4267
DTSTAMP:20260425T103404Z
DESCRIPTION:Free and open to the public\n\nEXHIBITORS TABLES - All Day\nKEY
 NOTE SPEAKERS - 2:30 PM (Limited Seating)\n\nANNE FORD is author of the ac
 claimed memoir Laughing Allegra about raising her daughter with severe lea
 rning disabilities\; On Their Own: Creating an Independent Future for Your
  Adult Child with Learning Disabilities and ADHD\; The  Forgotten Child.\;
  and A Special Mother. Ford’s story of raising a child with LD has been fe
 atured in Newsweek\, USA Today\, and on NPR\, NBC\, and Lifetime. \n\nJOHN
 -RICHARD THOMPSON\, an award-winning playwright and novelist and has colla
 borated with Anne Ford at NCLD and on her three previous books\, including
  A Special Mother.
DTSTART;TZID=America/New_York:20151018T140000
DTEND;TZID=America/New_York:20151018T170000
LOCATION:East Brunswick Public Library
SUMMARY:Disability Awareness Fair
END:VEVENT
END:VCALENDAR
