BEGIN:VCALENDAR
VERSION:2.0
PRODID:-//www.thearcfamilyinstitute.org//NONSGML kigkonsult.se iCalcreator 
 2.30.10//
CALSCALE:GREGORIAN
METHOD:PUBLISH
UID:df528691-9ed2-4c61-92a4-20940aa3ae47
X-WR-CALDESC:The new “Supports Program” will offer options for your family 
 member. What influences a person’s decision to choose one service over ano
 ther? Is Supported Employment for you? Career Exploration? And what about 
 the new op'on called Trial Work\nExperience? Let us tell you what we at Th
 e Arc of Monmouth are doing to ensure each person’s satisfaction (and the 
 employer’s!) with\nthe work experience. Finally\, why do some people choos
 e a Community Rehabilitation Program\; does this work?
X-WR-RELCALID:15e101d020ed0a00db3a76a9d4c471b8
X-WR-TIMEZONE:America/New_York
BEGIN:VTIMEZONE
TZID:America/New_York
BEGIN:STANDARD
TZNAME:EST
DTSTART:20141102T020000
TZOFFSETFROM:-0400
TZOFFSETTO:-0500
RDATE:20151101T020000
RDATE:20161106T020000
END:STANDARD
BEGIN:DAYLIGHT
TZNAME:EDT
DTSTART:20150308T020000
TZOFFSETFROM:-0500
TZOFFSETTO:-0400
RDATE:20160313T020000
RDATE:20170312T020000
END:DAYLIGHT
END:VTIMEZONE
BEGIN:VEVENT
UID:89892c43-241d-41ac-b481-09b0ecbd09a9
DTSTAMP:20260425T103958Z
DESCRIPTION:The new “Supports Program” will offer options for your family m
 ember. What influences a person’s decision to choose one service over anot
 her? Is Supported Employment for you? Career Exploration? And what about t
 he new op'on called Trial Work\nExperience? Let us tell you what we at The
  Arc of Monmouth are doing to ensure each person’s satisfaction (and the e
 mployer’s!) with\nthe work experience. Finally\, why do some people choose
  a Community Rehabilitation Program\; does this work?
DTSTART;TZID=America/New_York:20151013T180000
DTEND;TZID=America/New_York:20151013T190000
LOCATION:The Arc of Monmouth\, 1158 Wayside Road\, Tinton Falls\, NJ 07712
SUMMARY:The Arc of Monmouth: Community Conversaons About Work
END:VEVENT
END:VCALENDAR
