BEGIN:VCALENDAR
VERSION:2.0
PRODID:-//www.thearcfamilyinstitute.org//NONSGML kigkonsult.se iCalcreator 
 2.30.10//
CALSCALE:GREGORIAN
METHOD:PUBLISH
UID:c10db53d-a360-4a22-822c-d7761aa735a4
X-WR-CALDESC:The Jerry Davis Center for Children and Families invites you t
 o their Daycare and Preschool Open House to be held Thursday\, October 1\,
  2015 from 5:30 pm to 7:00 pm at 141 South Main Street in Manville. Childr
 en of all abilities ages 3 months and up are accepted on a full and part t
 ime basis. The program utilizes a state-approved\, evidence-based curricul
 um in their low-ratio\, high-energy learning environment. For more informa
 tion please call 908-725-8544.
X-WR-RELCALID:67d39a04b6c39d91f0719f8eb4b4a361
X-WR-TIMEZONE:America/New_York
BEGIN:VTIMEZONE
TZID:America/New_York
BEGIN:STANDARD
TZNAME:EST
DTSTART:20141102T020000
TZOFFSETFROM:-0400
TZOFFSETTO:-0500
RDATE:20151101T020000
RDATE:20161106T020000
END:STANDARD
BEGIN:DAYLIGHT
TZNAME:EDT
DTSTART:20150308T020000
TZOFFSETFROM:-0500
TZOFFSETTO:-0400
RDATE:20160313T020000
RDATE:20170312T020000
END:DAYLIGHT
END:VTIMEZONE
BEGIN:VEVENT
UID:71c4d35d-57db-4bd0-b1ad-76410571211b
DTSTAMP:20260425T104344Z
DESCRIPTION:The Jerry Davis Center for Children and Families invites you to
  their Daycare and Preschool Open House to be held Thursday\, October 1\, 
 2015 from 5:30 pm to 7:00 pm at 141 South Main Street in Manville. Childre
 n of all abilities ages 3 months and up are accepted on a full and part ti
 me basis. The program utilizes a state-approved\, evidence-based curriculu
 m in their low-ratio\, high-energy learning environment. For more informat
 ion please call 908-725-8544.
DTSTART;TZID=America/New_York:20151001T173000
DTEND;TZID=America/New_York:20151001T190000
LOCATION:141 S. Main Street\, Manville\, NJ 08835
SUMMARY:The Jerry Davis Center Childcare and Preschool  Childcare and Presc
 hool: Open House
END:VEVENT
END:VCALENDAR
