BEGIN:VCALENDAR
VERSION:2.0
PRODID:-//www.thearcfamilyinstitute.org//NONSGML kigkonsult.se iCalcreator 
 2.30.10//
CALSCALE:GREGORIAN
METHOD:PUBLISH
UID:79cf7a2a-a2f1-4ab4-bba9-954fdd16a7a2
X-WR-CALDESC:Hosted by Monmouth County for Young Children. \n\nCalling all 
 Parents\, Guardians\, and community members…. Please join us to help make 
 Monmouth County a better place to raise our children. Be involved and help
  us make a change! Light refreshment will be served.
X-WR-RELCALID:89b6a28fa747766f8d9ff810ddc43e57
X-WR-TIMEZONE:America/New_York
BEGIN:VTIMEZONE
TZID:America/New_York
BEGIN:STANDARD
TZNAME:EST
DTSTART:20141102T020000
TZOFFSETFROM:-0400
TZOFFSETTO:-0500
RDATE:20151101T020000
RDATE:20161106T020000
END:STANDARD
BEGIN:DAYLIGHT
TZNAME:EDT
DTSTART:20150308T020000
TZOFFSETFROM:-0500
TZOFFSETTO:-0400
RDATE:20160313T020000
RDATE:20170312T020000
END:DAYLIGHT
END:VTIMEZONE
BEGIN:VEVENT
UID:5413a5d9-15f6-49a2-b250-b889c19afa25
DTSTAMP:20260425T103823Z
DESCRIPTION:Hosted by Monmouth County for Young Children. \n\nCalling all P
 arents\, Guardians\, and community members…. Please join us to help make M
 onmouth County a better place to raise our children. Be involved and help 
 us make a change! Light refreshment will be served.
DTSTART;TZID=America/New_York:20151001T123000
DTEND;TZID=America/New_York:20151001T143000
LOCATION:VNAHG\, 176 Riverside Avenue\, Red Bank\, NJ\, 07701
SUMMARY:Serving On Groups That Make Decisions: A Guide For Families
END:VEVENT
END:VCALENDAR
