BEGIN:VCALENDAR
VERSION:2.0
PRODID:-//www.thearcfamilyinstitute.org//NONSGML kigkonsult.se iCalcreator 
 2.30.10//
CALSCALE:GREGORIAN
METHOD:PUBLISH
UID:106fe3ae-e29a-46ec-a588-5e5689e62cbd
X-WR-CALDESC:Presented By: Lisa Ford\, Director of The Arc of New Jersey Fa
 mily Institute
X-WR-RELCALID:b95046b778389dc04c2daf8993d52fd6
X-WR-TIMEZONE:America/New_York
BEGIN:VTIMEZONE
TZID:America/New_York
BEGIN:STANDARD
TZNAME:EST
DTSTART:20141102T020000
TZOFFSETFROM:-0400
TZOFFSETTO:-0500
RDATE:20151101T020000
RDATE:20161106T020000
END:STANDARD
BEGIN:DAYLIGHT
TZNAME:EDT
DTSTART:20150308T020000
TZOFFSETFROM:-0500
TZOFFSETTO:-0400
RDATE:20160313T020000
RDATE:20170312T020000
END:DAYLIGHT
END:VTIMEZONE
BEGIN:VEVENT
UID:6b9d97fb-b99c-4f26-817b-6943e1563e7f
DTSTAMP:20260425T120325Z
DESCRIPTION:Presented By: Lisa Ford\, Director of The Arc of New Jersey Fam
 ily Institute
DTSTART;TZID=America/New_York:20150929T183000
DTEND;TZID=America/New_York:20150929T203000
LOCATION:Empower Family Success Center\, 34 W Main Street\, Somerville
SUMMARY:Getting Ready For College
END:VEVENT
END:VCALENDAR
