BEGIN:VCALENDAR
VERSION:2.0
PRODID:-//www.thearcfamilyinstitute.org//NONSGML kigkonsult.se iCalcreator 
 2.30.10//
CALSCALE:GREGORIAN
METHOD:PUBLISH
UID:0b0339a6-17aa-4132-bcc7-20f76e4c5862
X-WR-CALDESC:Presented By: Lisa Ford\, Director of The Arc of New Jersey Fa
 mily Institute
X-WR-RELCALID:de56da5e28dc3d0bb46a08163bd72511
X-WR-TIMEZONE:America/New_York
BEGIN:VTIMEZONE
TZID:America/New_York
BEGIN:STANDARD
TZNAME:EST
DTSTART:20141102T020000
TZOFFSETFROM:-0400
TZOFFSETTO:-0500
RDATE:20151101T020000
RDATE:20161106T020000
END:STANDARD
BEGIN:DAYLIGHT
TZNAME:EDT
DTSTART:20150308T020000
TZOFFSETFROM:-0500
TZOFFSETTO:-0400
RDATE:20160313T020000
RDATE:20170312T020000
END:DAYLIGHT
END:VTIMEZONE
BEGIN:VEVENT
UID:c377b26a-351e-4adb-b365-20c9b8dfc67b
DTSTAMP:20260425T115257Z
DESCRIPTION:Presented By: Lisa Ford\, Director of The Arc of New Jersey Fam
 ily Institute
DTSTART;TZID=America/New_York:20150916T100000
DTEND;TZID=America/New_York:20150916T120000
LOCATION:Family Support Organization of Ocean County\, 34 Manchester Avenue
 \, Suite 202\, Forked River\, 08731
SUMMARY:Keys to A Smooth Transition
END:VEVENT
END:VCALENDAR
