BEGIN:VCALENDAR
VERSION:2.0
PRODID:-//www.thearcfamilyinstitute.org//NONSGML kigkonsult.se iCalcreator 
 2.30.10//
CALSCALE:GREGORIAN
METHOD:PUBLISH
UID:adbdbda3-4184-4436-bcf2-be21c86274f3
X-WR-CALDESC:Keynote is Michael D. Hannon\, Ph.D.\, LAC (NJ)\, NCC\, Assist
 ant Professor of Counseling\, Montclair State University. Mike and his wif
 e LaChan\, are the co-founders of the Greater Expectations Teaching & Advo
 cacy Center for Childhood Disabilities\, Inc. (GETAC) in Burlington County
 .
X-WR-RELCALID:842cdc5f23d802fab1e48a5af720a88e
X-WR-TIMEZONE:America/New_York
BEGIN:VTIMEZONE
TZID:America/New_York
BEGIN:STANDARD
TZNAME:EST
DTSTART:20141102T020000
TZOFFSETFROM:-0400
TZOFFSETTO:-0500
RDATE:20151101T020000
RDATE:20161106T020000
END:STANDARD
BEGIN:DAYLIGHT
TZNAME:EDT
DTSTART:20150308T020000
TZOFFSETFROM:-0500
TZOFFSETTO:-0400
RDATE:20160313T020000
RDATE:20170312T020000
END:DAYLIGHT
END:VTIMEZONE
BEGIN:VEVENT
UID:4953a8e8-688e-4d66-948c-56e9e3818893
DTSTAMP:20260425T115638Z
DESCRIPTION:Keynote is Michael D. Hannon\, Ph.D.\, LAC (NJ)\, NCC\, Assista
 nt Professor of Counseling\, Montclair State University. Mike and his wife
  LaChan\, are the co-founders of the Greater Expectations Teaching & Advoc
 acy Center for Childhood Disabilities\, Inc. (GETAC) in Burlington County.
DTSTART;TZID=America/New_York:20150912T083000
DTEND;TZID=America/New_York:20150912T153000
LOCATION:Lake View School\, Roosevelt Park\, 10 Oak Drive Edison\, 08837
SUMMARY:3rd Annual Conference For Fathers of Children with Special Needs
END:VEVENT
END:VCALENDAR
