BEGIN:VCALENDAR
VERSION:2.0
PRODID:-//www.thearcfamilyinstitute.org//NONSGML kigkonsult.se iCalcreator 
 2.30.10//
CALSCALE:GREGORIAN
METHOD:PUBLISH
UID:c6685631-c717-42d0-b678-4c7300e29e38
X-WR-CALDESC:Presented by Lisa Ford - Director of The Arc of New Jersey Fam
 ily Institute
X-WR-RELCALID:b41895ca98fc860ad5eaeaa4571b887c
X-WR-TIMEZONE:America/New_York
BEGIN:VTIMEZONE
TZID:America/New_York
BEGIN:STANDARD
TZNAME:EST
DTSTART:20141102T020000
TZOFFSETFROM:-0400
TZOFFSETTO:-0500
RDATE:20151101T020000
RDATE:20161106T020000
END:STANDARD
BEGIN:DAYLIGHT
TZNAME:EDT
DTSTART:20150308T020000
TZOFFSETFROM:-0500
TZOFFSETTO:-0400
RDATE:20160313T020000
END:DAYLIGHT
END:VTIMEZONE
BEGIN:VEVENT
UID:b0157367-be08-49a9-b68f-8402919c7f2f
DTSTAMP:20260425T145751Z
DESCRIPTION:Presented by Lisa Ford - Director of The Arc of New Jersey Fami
 ly Institute
DTSTART;TZID=America/New_York:20150708T183000
DTEND;TZID=America/New_York:20150708T193000
LOCATION:Empower Somerset Family Success Center\, 34 West Main Street   Sui
 te 201 - 2nd Floor\,Somerville\, NJ\, 08876
SUMMARY:Navigating the System of Care: The Keys to a Smooth Transition
END:VEVENT
END:VCALENDAR
