BEGIN:VCALENDAR
VERSION:2.0
PRODID:-//www.thearcfamilyinstitute.org//NONSGML kigkonsult.se iCalcreator 
 2.30.10//
CALSCALE:GREGORIAN
METHOD:PUBLISH
UID:1ab844bb-a760-4764-8489-a15a37a4016f
X-WR-CALDESC:Some Medicaid beneficiaries with intellectual and \ndevelopmen
 tal disabilities (I/DD) need assistance with the \nactivities of daily liv
 ing (ADLs) such as dressing\, bathing\, \nfeeding\, and toileting. When me
 dically necessary\, assistance with the ADLs is available for persons who 
 are enrolled in NJ's Medicaid managed care organizations (MCOs). These ser
 vices are known as Personal Care Assistant (PCA) services. For new referra
 ls\, an MCO nurse does an initial assessment to determine if the person wi
 th I/DD is eligible for this type of assistance\, and\, if yes\, how many 
 hours per week this assistance will be provided and covered by the MCO. Af
 ter the initial assessment\, the \nindividual is reassessed on an annual o
 r semi-annual basis\, or when the individual has a change in his/her condi
 tion. The PCA services can be provided through either a PCA agency that is
  in your MCO's network or they can be self-directed through the program kn
 own as the Personal Preference Program (PPP). Through the PPP program\, th
 e individual or legal guardian is permitted to hire a family member\, frie
 nd\, or neighbor to \nprovide the person with I/DD with the needed assista
 nce with activities of daily living.\n \nThis webinar will provide importa
 nt information on the new PCA/PPP assessment tool\, which was developed by
  the State Medicaid office. After many months of development and field tes
 ting\, this assessment tool is now being used by all of New \nJersey's Med
 icaid MCOs.\n\nSPEAKERS: \nMaribeth Robenolt\, RN\, MPH\, Director\, MLTSS
  Quality \nMonitoring\nSteve Tunney\, RN\, MSN\, Director\, Office of Cust
 omer Service
X-WR-RELCALID:33c8c3f0d034e0cab20e8126d9828c80
X-WR-TIMEZONE:America/New_York
BEGIN:VTIMEZONE
TZID:America/New_York
BEGIN:STANDARD
TZNAME:EST
DTSTART:20141102T020000
TZOFFSETFROM:-0400
TZOFFSETTO:-0500
RDATE:20151101T020000
RDATE:20161106T020000
END:STANDARD
BEGIN:DAYLIGHT
TZNAME:EDT
DTSTART:20150308T020000
TZOFFSETFROM:-0500
TZOFFSETTO:-0400
RDATE:20160313T020000
END:DAYLIGHT
END:VTIMEZONE
BEGIN:VEVENT
UID:13675f85-9f7f-4c3a-bef2-6beb2a7297d4
DTSTAMP:20260425T162310Z
DESCRIPTION:Some Medicaid beneficiaries with intellectual and \ndevelopment
 al disabilities (I/DD) need assistance with the \nactivities of daily livi
 ng (ADLs) such as dressing\, bathing\, \nfeeding\, and toileting. When med
 ically necessary\, assistance with the ADLs is available for persons who a
 re enrolled in NJ's Medicaid managed care organizations (MCOs). These serv
 ices are known as Personal Care Assistant (PCA) services. For new referral
 s\, an MCO nurse does an initial assessment to determine if the person wit
 h I/DD is eligible for this type of assistance\, and\, if yes\, how many h
 ours per week this assistance will be provided and covered by the MCO. Aft
 er the initial assessment\, the \nindividual is reassessed on an annual or
  semi-annual basis\, or when the individual has a change in his/her condit
 ion. The PCA services can be provided through either a PCA agency that is 
 in your MCO's network or they can be self-directed through the program kno
 wn as the Personal Preference Program (PPP). Through the PPP program\, the
  individual or legal guardian is permitted to hire a family member\, frien
 d\, or neighbor to \nprovide the person with I/DD with the needed assistan
 ce with activities of daily living.\n \nThis webinar will provide importan
 t information on the new PCA/PPP assessment tool\, which was developed by 
 the State Medicaid office. After many months of development and field test
 ing\, this assessment tool is now being used by all of New \nJersey's Medi
 caid MCOs.\n\nSPEAKERS: \nMaribeth Robenolt\, RN\, MPH\, Director\, MLTSS 
 Quality \nMonitoring\nSteve Tunney\, RN\, MSN\, Director\, Office of Custo
 mer Service
DTSTART;TZID=America/New_York:20150630T100000
DTEND;TZID=America/New_York:20150630T110000
LOCATION:
SUMMARY:Webinar: New Assessment Tool for Persons who Need Assistance with t
 heir Personal Care
END:VEVENT
END:VCALENDAR
