BEGIN:VCALENDAR
VERSION:2.0
PRODID:-//www.thearcfamilyinstitute.org//NONSGML kigkonsult.se iCalcreator 
 2.30.10//
CALSCALE:GREGORIAN
METHOD:PUBLISH
UID:d952a34f-bb19-4bd9-b5a9-a84c448c1007
X-WR-CALDESC:Presented by: Jennifer Case\, NCG\nSCARC Guardianship Services
 \, Inc.\n\nLinda McConville\, CEO\nSCARC Guardianship Services\, Inc.\n\nL
 ight Snacks will be served. Child care is available by request only.\n\nPl
 ease RSVP by June 16\, 2015
X-WR-RELCALID:596508260b06dd2210ac507e11395272
X-WR-TIMEZONE:America/New_York
BEGIN:VTIMEZONE
TZID:America/New_York
BEGIN:STANDARD
TZNAME:EST
DTSTART:20141102T020000
TZOFFSETFROM:-0400
TZOFFSETTO:-0500
RDATE:20151101T020000
RDATE:20161106T020000
END:STANDARD
BEGIN:DAYLIGHT
TZNAME:EDT
DTSTART:20150308T020000
TZOFFSETFROM:-0500
TZOFFSETTO:-0400
RDATE:20160313T020000
END:DAYLIGHT
END:VTIMEZONE
BEGIN:VEVENT
UID:011fc8a9-c73a-4641-adac-dc3300e6f6a7
DTSTAMP:20260425T162417Z
DESCRIPTION:Presented by: Jennifer Case\, NCG\nSCARC Guardianship Services\
 , Inc.\n\nLinda McConville\, CEO\nSCARC Guardianship Services\, Inc.\n\nLi
 ght Snacks will be served. Child care is available by request only.\n\nPle
 ase RSVP by June 16\, 2015
DTSTART;TZID=America/New_York:20150623T183000
DTEND;TZID=America/New_York:20150623T203000
LOCATION:SCARC Hampton Community Center 4 Camre Drive\, Newton\, NJ 07860
SUMMARY:SCARC (Sussex County Arc):Guardianship/Special Needs Trust Seminar
END:VEVENT
END:VCALENDAR
