BEGIN:VCALENDAR
VERSION:2.0
PRODID:-//www.thearcfamilyinstitute.org//NONSGML kigkonsult.se iCalcreator 
 2.30.10//
CALSCALE:GREGORIAN
METHOD:PUBLISH
UID:a77117dd-3224-48e9-a957-a84d3c3ed638
X-WR-CALDESC:If your family member is currently receiving DDD services\, yo
 u’ll want to learn about DDD’s system reform. A few families are gathering
  at The Arc Center to view DDD’s information webinar together. Join us! \n
 \nWednesday\, June 17 - 5:00 p.m. to 7:30 p.m.\n\nJennifer Joyce\, DDD Dir
 ector of Supports Program DDD’s System Reform: Understanding What it Means
  for will present: \nSomeone Currently Receiving DDD Services \n\nThe webi
 nar will provide an update on the system reform currently underway at DDD 
 and an overview of how these changes will affect people who are already re
 ceiving services through DDD funding. Information about continuing needed 
 services\, accessing new services\, and shifting to the Support Coordinati
 on model of care management will be provided.
X-WR-RELCALID:e754a67b727e62920e879480bff626e2
X-WR-TIMEZONE:America/New_York
BEGIN:VTIMEZONE
TZID:America/New_York
BEGIN:STANDARD
TZNAME:EST
DTSTART:20141102T020000
TZOFFSETFROM:-0400
TZOFFSETTO:-0500
RDATE:20151101T020000
RDATE:20161106T020000
END:STANDARD
BEGIN:DAYLIGHT
TZNAME:EDT
DTSTART:20150308T020000
TZOFFSETFROM:-0500
TZOFFSETTO:-0400
RDATE:20160313T020000
END:DAYLIGHT
END:VTIMEZONE
BEGIN:VEVENT
UID:e9a38fbb-5dfa-4932-ab96-93612ba2802f
DTSTAMP:20260425T162422Z
DESCRIPTION:If your family member is currently receiving DDD services\, you
 ’ll want to learn about DDD’s system reform. A few families are gathering 
 at The Arc Center to view DDD’s information webinar together. Join us! \n
 \nWednesday\, June 17 - 5:00 p.m. to 7:30 p.m.\n\nJennifer Joyce\, DDD Dir
 ector of Supports Program DDD’s System Reform: Understanding What it Means
  for will present: \nSomeone Currently Receiving DDD Services \n\nThe webi
 nar will provide an update on the system reform currently underway at DDD 
 and an overview of how these changes will affect people who are already re
 ceiving services through DDD funding. Information about continuing needed 
 services\, accessing new services\, and shifting to the Support Coordinati
 on model of care management will be provided.
DTSTART;TZID=America/New_York:20150617T170000
DTEND;TZID=America/New_York:20150617T193000
LOCATION:
SUMMARY:The Arc of Monmouth: Are You Ready For DDD’s System Reform?
END:VEVENT
END:VCALENDAR
