BEGIN:VCALENDAR
VERSION:2.0
PRODID:-//www.thearcfamilyinstitute.org//NONSGML kigkonsult.se iCalcreator 
 2.30.10//
CALSCALE:GREGORIAN
METHOD:PUBLISH
UID:92eeabc8-0f28-4863-bb65-14c7c1c7b0d5
X-WR-CALDESC:Join us for The Arc of Essex County’s Annual Membership Meetin
 g to learn about the new feefor-\nservice system and how it will impact yo
 u. During this meeting\, The Arc of Essex County’s\nCEO Linda Lucas will p
 rovide an explanation of the state’s shift to a fee-for-service model\nand
  the impact on provider agencies. Director of Business Development Melissa
  Soules will\nprovide families with an overview of their role and responsi
 bilities in continuing to receive\nservices in the fee-for-service model.
 \n\nDiscussion topics:\n• Fee-for-Service Overview and Timeline\n• Impact 
 on Provider Agencies like The Arc of Essex County\n• Individual Assessment
  Process and the Impact on Budget and Services\n• Understanding Medicaid W
 aiver Enrollment and the Importance of Maintaining Eligibility\n• Selectin
 g Services and the Role of the Support Coordinator\nRSVP By Monday\, June 
 8.
X-WR-RELCALID:0a86480054cb9134a2b97e8fc4fa1c42
X-WR-TIMEZONE:America/New_York
BEGIN:VTIMEZONE
TZID:America/New_York
BEGIN:STANDARD
TZNAME:EST
DTSTART:20141102T020000
TZOFFSETFROM:-0400
TZOFFSETTO:-0500
RDATE:20151101T020000
RDATE:20161106T020000
END:STANDARD
BEGIN:DAYLIGHT
TZNAME:EDT
DTSTART:20150308T020000
TZOFFSETFROM:-0500
TZOFFSETTO:-0400
RDATE:20160313T020000
END:DAYLIGHT
END:VTIMEZONE
BEGIN:VEVENT
UID:66480bad-c9e1-4ca6-8eee-4f030b8a06b2
DTSTAMP:20260425T162555Z
DESCRIPTION:Join us for The Arc of Essex County’s Annual Membership Meeting
  to learn about the new feefor-\nservice system and how it will impact you
 . During this meeting\, The Arc of Essex County’s\nCEO Linda Lucas will pr
 ovide an explanation of the state’s shift to a fee-for-service model\nand 
 the impact on provider agencies. Director of Business Development Melissa 
 Soules will\nprovide families with an overview of their role and responsib
 ilities in continuing to receive\nservices in the fee-for-service model.\n
 \nDiscussion topics:\n• Fee-for-Service Overview and Timeline\n• Impact on
  Provider Agencies like The Arc of Essex County\n• Individual Assessment P
 rocess and the Impact on Budget and Services\n• Understanding Medicaid Wai
 ver Enrollment and the Importance of Maintaining Eligibility\n• Selecting 
 Services and the Role of the Support Coordinator\nRSVP By Monday\, June 8.
DTSTART;TZID=America/New_York:20150615T190000
DTEND;TZID=America/New_York:20150615T203000
LOCATION:The Arc of Essex County\, 123 Naylon Avenue\, Livingston\, NJ 0703
 9
SUMMARY:The Arc of Essex County: Annual Membership Meeting - FEE FOR SERVIC
 E What You Need to Know\; What You Need to Do
END:VEVENT
END:VCALENDAR
