BEGIN:VCALENDAR
VERSION:2.0
PRODID:-//www.thearcfamilyinstitute.org//NONSGML kigkonsult.se iCalcreator 
 2.30.10//
CALSCALE:GREGORIAN
METHOD:PUBLISH
UID:ff779dd4-b989-4d0b-9e76-9adc97327b3c
X-WR-CALDESC:
X-WR-RELCALID:931d9c5e509471e7c3b5675b66924a99
X-WR-TIMEZONE:America/New_York
BEGIN:VTIMEZONE
TZID:America/New_York
BEGIN:STANDARD
TZNAME:EST
DTSTART:20141102T020000
TZOFFSETFROM:-0400
TZOFFSETTO:-0500
RDATE:20151101T020000
RDATE:20161106T020000
END:STANDARD
BEGIN:DAYLIGHT
TZNAME:EDT
DTSTART:20150308T020000
TZOFFSETFROM:-0500
TZOFFSETTO:-0400
RDATE:20160313T020000
END:DAYLIGHT
END:VTIMEZONE
BEGIN:VEVENT
UID:8c2af8a4-aa7b-4640-be1a-34a4bbc64c67
DTSTAMP:20260425T175141Z
DESCRIPTION:
DTSTART;TZID=America/New_York:20150530T090000
DTEND;TZID=America/New_York:20150530T130000
LOCATION:Sea Isle City Promenade
SUMMARY:The Arc of Cape May: Walkathon
END:VEVENT
END:VCALENDAR
