BEGIN:VCALENDAR
VERSION:2.0
PRODID:-//www.thearcfamilyinstitute.org//NONSGML kigkonsult.se iCalcreator 
 2.30.10//
CALSCALE:GREGORIAN
METHOD:PUBLISH
UID:e998ce76-265f-49b1-a255-73f272571149
X-WR-CALDESC:This conference is for anyone concerned about ensuring the con
 sistent provision of quality health care to individuals with intellectual 
 and developmental disabilities (I/DD). Target audience includes health and
  mental health professionals\; administrative and direct care staff at I/D
 D service agencies\; family members\; social workers\; HMO representatives
 \; and employees of the New Jersey Departments of Human Services\, Childre
 n and Families\, and Health.\n\nPlease view the below Conference Brochure 
 for detailed descriptions of Morning and Afternoon Workshops. Registrants 
 must indicate First-Choice A.M. and P.M. workshops\, and Second-Choice A.M
 . and P.M. workshops.\n\nSCHOLARSHIP:\nMUST BE PRE-APPROVED\, Limited Avai
 lability – first come\, first served – for medical students\, residents\, 
 or others in need. Please call Beth Moffitt at 732.246.2525 x35 before reg
 istering (Scholarship registrations submitted without pre-approval will no
 t be accepted.)
X-WR-RELCALID:9edd14a340ac986cf26c681c3562961a
X-WR-TIMEZONE:America/New_York
BEGIN:VTIMEZONE
TZID:America/New_York
BEGIN:STANDARD
TZNAME:EST
DTSTART:20141102T020000
TZOFFSETFROM:-0400
TZOFFSETTO:-0500
RDATE:20151101T020000
RDATE:20161106T020000
END:STANDARD
BEGIN:DAYLIGHT
TZNAME:EDT
DTSTART:20150308T020000
TZOFFSETFROM:-0500
TZOFFSETTO:-0400
RDATE:20160313T020000
END:DAYLIGHT
END:VTIMEZONE
BEGIN:VEVENT
UID:09b26bff-d4f6-48e0-a09b-09b60d545f70
DTSTAMP:20260425T175514Z
DESCRIPTION:This conference is for anyone concerned about ensuring the cons
 istent provision of quality health care to individuals with intellectual a
 nd developmental disabilities (I/DD). Target audience includes health and 
 mental health professionals\; administrative and direct care staff at I/DD
  service agencies\; family members\; social workers\; HMO representatives\
 ; and employees of the New Jersey Departments of Human Services\, Children
  and Families\, and Health.\n\nPlease view the below Conference Brochure f
 or detailed descriptions of Morning and Afternoon Workshops. Registrants m
 ust indicate First-Choice A.M. and P.M. workshops\, and Second-Choice A.M.
  and P.M. workshops.\n\nSCHOLARSHIP:\nMUST BE PRE-APPROVED\, Limited Avail
 ability – first come\, first served – for medical students\, residents\, o
 r others in need. Please call Beth Moffitt at 732.246.2525 x35 before regi
 stering (Scholarship registrations submitted without pre-approval will not
  be accepted.)
DTSTART;TZID=America/New_York:20150529T083000
DTEND;TZID=America/New_York:20150529T143000
LOCATION:The Westin Princeton\,  201 Village Blvd.\, Forrestal Village\, Pr
 inceton\, NJ 08540
SUMMARY:The Arc of New Jersey: 6th Annual Conference on Medical Care for Pe
 rsons with Developmental Disabilities
END:VEVENT
END:VCALENDAR
