BEGIN:VCALENDAR
VERSION:2.0
PRODID:-//www.thearcfamilyinstitute.org//NONSGML kigkonsult.se iCalcreator 
 2.30.10//
CALSCALE:GREGORIAN
METHOD:PUBLISH
UID:09daf293-6485-473c-bca5-4c9ff824d771
X-WR-CALDESC:This family friendly event will include not only the 1 mile wa
 lk\, but a craft/vendor fair\, inflatable children's attractions\, picnic 
 food\, music and a dunk tank.  Everyone is welcome to come join us in the 
 fun!
X-WR-RELCALID:c38c9e43006274ba7843b0ddfa83dcde
X-WR-TIMEZONE:America/New_York
BEGIN:VTIMEZONE
TZID:America/New_York
BEGIN:STANDARD
TZNAME:EST
DTSTART:20141102T020000
TZOFFSETFROM:-0400
TZOFFSETTO:-0500
RDATE:20151101T020000
RDATE:20161106T020000
END:STANDARD
BEGIN:DAYLIGHT
TZNAME:EDT
DTSTART:20150308T020000
TZOFFSETFROM:-0500
TZOFFSETTO:-0400
RDATE:20160313T020000
END:DAYLIGHT
END:VTIMEZONE
BEGIN:VEVENT
UID:84633b56-1494-4710-b53c-18b42eebf9e4
DTSTAMP:20260425T174716Z
DESCRIPTION:This family friendly event will include not only the 1 mile wal
 k\, but a craft/vendor fair\, inflatable children's attractions\, picnic f
 ood\, music and a dunk tank.  Everyone is welcome to come join us in the f
 un!
DTSTART;TZID=America/New_York:20150523T090000
DTEND;TZID=America/New_York:20150523T130000
LOCATION:Veterans Park in Hamilton
SUMMARY:The Arc Mercer: Walkathon
END:VEVENT
END:VCALENDAR
