BEGIN:VCALENDAR
VERSION:2.0
PRODID:-//www.thearcfamilyinstitute.org//NONSGML kigkonsult.se iCalcreator 
 2.30.10//
CALSCALE:GREGORIAN
METHOD:PUBLISH
UID:f857ec4b-a3cf-43b7-8ab7-89d83e97d3b8
X-WR-CALDESC:Hosted by The Arc of New Jersey Family Institute\, this sessio
 n will explore what makes it difficult for parents to talk about sexuality
  with their own children and discuss solutions to those barriers. \n\nWe w
 ill also list a variety of topics and discuss when to teach and how to tea
 ch these topics to youth with developmental disabilities. \n\nPresented by
  Elizabeth M. Casparian\, PhD\, Executive Director of HiTOPS Adolescent He
 alth and Education Center.
X-WR-RELCALID:9e2d58c64589627f8e78c08555207645
X-WR-TIMEZONE:America/New_York
BEGIN:VTIMEZONE
TZID:America/New_York
BEGIN:STANDARD
TZNAME:EST
DTSTART:20141102T020000
TZOFFSETFROM:-0400
TZOFFSETTO:-0500
RDATE:20151101T020000
RDATE:20161106T020000
END:STANDARD
BEGIN:DAYLIGHT
TZNAME:EDT
DTSTART:20150308T020000
TZOFFSETFROM:-0500
TZOFFSETTO:-0400
RDATE:20160313T020000
END:DAYLIGHT
END:VTIMEZONE
BEGIN:VEVENT
UID:d6a9fc17-ec62-4a10-8cca-fc4921510238
DTSTAMP:20260425T175426Z
DESCRIPTION:Hosted by The Arc of New Jersey Family Institute\, this session
  will explore what makes it difficult for parents to talk about sexuality 
 with their own children and discuss solutions to those barriers. \n\nWe wi
 ll also list a variety of topics and discuss when to teach and how to teac
 h these topics to youth with developmental disabilities. \n\nPresented by 
 Elizabeth M. Casparian\, PhD\, Executive Director of HiTOPS Adolescent Hea
 lth and Education Center.
DTSTART;TZID=America/New_York:20150520T180000
DTEND;TZID=America/New_York:20150520T190000
LOCATION:
SUMMARY:Webinar: Talking About Sexuality Issues\, for Parents of Children W
 ith Special Needs
END:VEVENT
END:VCALENDAR
